BEGIN:VCALENDAR
VERSION:2.0
PRODID:-//Community Building International - ECPv6.15.20//NONSGML v1.0//EN
CALSCALE:GREGORIAN
METHOD:PUBLISH
X-ORIGINAL-URL:https://communitybuilding.com
X-WR-CALDESC:Events for Community Building International
REFRESH-INTERVAL;VALUE=DURATION:PT1H
X-Robots-Tag:noindex
X-PUBLISHED-TTL:PT1H
BEGIN:VTIMEZONE
TZID:Europe/Zurich
BEGIN:DAYLIGHT
TZOFFSETFROM:+0100
TZOFFSETTO:+0200
TZNAME:CEST
DTSTART:20240331T010000
END:DAYLIGHT
BEGIN:STANDARD
TZOFFSETFROM:+0200
TZOFFSETTO:+0100
TZNAME:CET
DTSTART:20241027T010000
END:STANDARD
BEGIN:DAYLIGHT
TZOFFSETFROM:+0100
TZOFFSETTO:+0200
TZNAME:CEST
DTSTART:20250330T010000
END:DAYLIGHT
BEGIN:STANDARD
TZOFFSETFROM:+0200
TZOFFSETTO:+0100
TZNAME:CET
DTSTART:20251026T010000
END:STANDARD
BEGIN:DAYLIGHT
TZOFFSETFROM:+0100
TZOFFSETTO:+0200
TZNAME:CEST
DTSTART:20260329T010000
END:DAYLIGHT
BEGIN:STANDARD
TZOFFSETFROM:+0200
TZOFFSETTO:+0100
TZNAME:CET
DTSTART:20261025T010000
END:STANDARD
END:VTIMEZONE
BEGIN:VTIMEZONE
TZID:America/New_York
BEGIN:DAYLIGHT
TZOFFSETFROM:-0500
TZOFFSETTO:-0400
TZNAME:EDT
DTSTART:20240310T070000
END:DAYLIGHT
BEGIN:STANDARD
TZOFFSETFROM:-0400
TZOFFSETTO:-0500
TZNAME:EST
DTSTART:20241103T060000
END:STANDARD
BEGIN:DAYLIGHT
TZOFFSETFROM:-0500
TZOFFSETTO:-0400
TZNAME:EDT
DTSTART:20250309T070000
END:DAYLIGHT
BEGIN:STANDARD
TZOFFSETFROM:-0400
TZOFFSETTO:-0500
TZNAME:EST
DTSTART:20251102T060000
END:STANDARD
BEGIN:DAYLIGHT
TZOFFSETFROM:-0500
TZOFFSETTO:-0400
TZNAME:EDT
DTSTART:20260308T070000
END:DAYLIGHT
BEGIN:STANDARD
TZOFFSETFROM:-0400
TZOFFSETTO:-0500
TZNAME:EST
DTSTART:20261101T060000
END:STANDARD
END:VTIMEZONE
BEGIN:VEVENT
DTSTART;TZID=Europe/Zurich:20251106T090000
DTEND;TZID=Europe/Zurich:20251107T130000
DTSTAMP:20260424T215114
CREATED:20250204T121618Z
LAST-MODIFIED:20250204T121618Z
UID:10000372-1762419600-1762520400@communitybuilding.com
SUMMARY:Community Building Skills Training in Switzerland
DESCRIPTION:Community Building Skills Training\nFreitag\, 6.11.  –  Sonntag\, 7.11.2025  in der Akademie für GEMEINSCHAFTSBILDUNG auf Schloss Glarisegg (Schweiz\, Bodensee) \nDieser Workshop kann einzeln oder in Kombination mit dem nachfolgenden 2.5-tägigen Gemeinschaftsbildungs-Workshop vom Freitag 7.11. – Sonntag 9.11.2025gebucht werden. \n  \nAnmeldung und Details \nGemeinschaftsbildung Schweiz
URL:https://communitybuilding.com/event/community-building-skills-training-in-switzerland/
LOCATION:Venue in Steckborn\, Schloss Glarisegg\, Steckborn\, Switzerland
CATEGORIES:CBST,Facilitated by Edward Groody,German,In Person,Workshop
ATTACH;FMTTYPE=image/jpeg:https://communitybuilding.com/wp-content/uploads/2025/02/Schloss-Glarisegg-Logo-web-Kopie.jpg
ORGANIZER;CN="Andreas Reese":MAILTO:switzerland@communitybuilding.com
GEO:47.6549028;8.9566413
X-APPLE-STRUCTURED-LOCATION;VALUE=URI;X-ADDRESS=Venue in Steckborn Schloss Glarisegg Steckborn Switzerland;X-APPLE-RADIUS=500;X-TITLE=Schloss Glarisegg:geo:8.9566413,47.6549028
END:VEVENT
BEGIN:VEVENT
DTSTART;TZID=America/New_York:20251107T140000
DTEND;TZID=America/New_York:20251109T160000
DTSTAMP:20260424T215114
CREATED:20250204T121737Z
LAST-MODIFIED:20250204T121737Z
UID:10000373-1762524000-1762704000@communitybuilding.com
SUMMARY:Gemeinschaftsbildungs-Workshop
DESCRIPTION:Gemeinschaftsbildungs-Workshop\nFreitag\, 7.11. –  Sonntag\, 9.11.2025 in der Akademie für GEMEINSCHAFTSBILDUNG auf Schloss Glarisegg (Schweiz\, Bodensee) \nDieser Workshop kann einzeln oder in Kombination mit dem vorausgehenden eintägigen CBST (Community Building Skills Training) vom Donnerstag\, 6.11. – Freitag 7.11.25 gebucht werden. \n  \nDetails und Anmeldung\nGemeinschaftsbildung Schweiz \n  \n  \n 
URL:https://communitybuilding.com/event/gemeinschaftsbildungs-workshop-3/
LOCATION:Venue in Steckborn\, Schloss Glarisegg\, Steckborn\, Switzerland
CATEGORIES:CBW,Facilitated by Edward Groody,German,In Person,Workshop
ATTACH;FMTTYPE=image/jpeg:https://communitybuilding.com/wp-content/uploads/2025/02/Schloss-Glarisegg-Logo-web-Kopie-1.jpg
ORGANIZER;CN="Andreas Reese":MAILTO:switzerland@communitybuilding.com
GEO:47.6549028;8.9566413
X-APPLE-STRUCTURED-LOCATION;VALUE=URI;X-ADDRESS=Venue in Steckborn Schloss Glarisegg Steckborn Switzerland;X-APPLE-RADIUS=500;X-TITLE=Schloss Glarisegg:geo:8.9566413,47.6549028
END:VEVENT
END:VCALENDAR