BEGIN:VCALENDAR
VERSION:2.0
PRODID:-//Community Building International - ECPv6.15.20//NONSGML v1.0//EN
CALSCALE:GREGORIAN
METHOD:PUBLISH
X-WR-CALNAME:Community Building International
X-ORIGINAL-URL:https://communitybuilding.com
X-WR-CALDESC:Events for Community Building International
REFRESH-INTERVAL;VALUE=DURATION:PT1H
X-Robots-Tag:noindex
X-PUBLISHED-TTL:PT1H
BEGIN:VTIMEZONE
TZID:Europe/Bratislava
BEGIN:DAYLIGHT
TZOFFSETFROM:+0100
TZOFFSETTO:+0200
TZNAME:CEST
DTSTART:20240331T010000
END:DAYLIGHT
BEGIN:STANDARD
TZOFFSETFROM:+0200
TZOFFSETTO:+0100
TZNAME:CET
DTSTART:20241027T010000
END:STANDARD
BEGIN:DAYLIGHT
TZOFFSETFROM:+0100
TZOFFSETTO:+0200
TZNAME:CEST
DTSTART:20250330T010000
END:DAYLIGHT
BEGIN:STANDARD
TZOFFSETFROM:+0200
TZOFFSETTO:+0100
TZNAME:CET
DTSTART:20251026T010000
END:STANDARD
BEGIN:DAYLIGHT
TZOFFSETFROM:+0100
TZOFFSETTO:+0200
TZNAME:CEST
DTSTART:20260329T010000
END:DAYLIGHT
BEGIN:STANDARD
TZOFFSETFROM:+0200
TZOFFSETTO:+0100
TZNAME:CET
DTSTART:20261025T010000
END:STANDARD
END:VTIMEZONE
BEGIN:VEVENT
DTSTART;TZID=Europe/Bratislava:20251121T090000
DTEND;TZID=Europe/Bratislava:20251123T160000
DTSTAMP:20260424T214948
CREATED:20250205T184954Z
LAST-MODIFIED:20251106T080829Z
UID:10000374-1763715600-1763913600@communitybuilding.com
SUMMARY:Module 4: Practical Applications of Community Building – Tools & Methods
DESCRIPTION:Module 4 is part of CBI’s Facilitator Training Program and Deep Dive Program which covers this Practical Applications of Community Building – Tools & Methods \nDates: November 21-23\, 2025\nThe program will start on Friday November 21 at 9 p.m. and end on Sunday November 23 at 4 p.m. \nLanguage:  The training will be in English and Slovak \nCost: It is free of charge for FIT´s. Facilitators can repeat their participation for the price of 65 € for the training room\, printed materials and refreshments (Will be paid on the spot.). \nLocation: Training will be in Quo Vadis House\, in Bratislava\, Slovakia. Dom Quo Vadis – website\n \nAccommodation and meals are not provided by the organizer. \nWe recommend finding accommodation through booking.com\, airbnb.com or other portals according to your needs and options.\nThe Quo Vadis House is located in the city centre and there are many restaurants and shops in the surrounding area. \nRegistration:\n1. For registration click the RSVP button below. The RSVP will direct you to sign the Required Participation Waivers\n2. For those who will repeat their participation on Module 4: You will pay your contribution on the spot.\n3. After registration\, you will be emailed additional information. \nQuestions? Contact Zuzana Vnenčáková at events@communitybuilding.com.
URL:https://communitybuilding.com/event/module-4-practical-applications-of-community-building-tools-methods/
LOCATION:Dom Quo Vadis\, Hurbanovo námestie 1\, Bratislava\, 811 03\, Slovakia (Slovak Republic)
CATEGORIES:English,Facilitated by Edward Groody,Facilitator Training,In Person,Language,Module 4,Slovakian
ATTACH;FMTTYPE=image/jpeg:https://communitybuilding.com/wp-content/uploads/2024/09/2d6a9f8fc0b798b067ab53263c629861-tp2Lps.tmp_.jpg
GEO:48.1461865;17.1076583
X-APPLE-STRUCTURED-LOCATION;VALUE=URI;X-ADDRESS=Dom Quo Vadis Hurbanovo námestie 1 Bratislava 811 03 Slovakia (Slovak Republic);X-APPLE-RADIUS=500;X-TITLE=Hurbanovo námestie 1:geo:17.1076583,48.1461865
END:VEVENT
END:VCALENDAR