BEGIN:VCALENDAR
VERSION:2.0
PRODID:-//Community Building International - ECPv6.15.20//NONSGML v1.0//EN
CALSCALE:GREGORIAN
METHOD:PUBLISH
X-ORIGINAL-URL:https://communitybuilding.com
X-WR-CALDESC:Events for Community Building International
REFRESH-INTERVAL;VALUE=DURATION:PT1H
X-Robots-Tag:noindex
X-PUBLISHED-TTL:PT1H
BEGIN:VTIMEZONE
TZID:Europe/Budapest
BEGIN:DAYLIGHT
TZOFFSETFROM:+0100
TZOFFSETTO:+0200
TZNAME:CEST
DTSTART:20240331T010000
END:DAYLIGHT
BEGIN:STANDARD
TZOFFSETFROM:+0200
TZOFFSETTO:+0100
TZNAME:CET
DTSTART:20241027T010000
END:STANDARD
BEGIN:DAYLIGHT
TZOFFSETFROM:+0100
TZOFFSETTO:+0200
TZNAME:CEST
DTSTART:20250330T010000
END:DAYLIGHT
BEGIN:STANDARD
TZOFFSETFROM:+0200
TZOFFSETTO:+0100
TZNAME:CET
DTSTART:20251026T010000
END:STANDARD
BEGIN:DAYLIGHT
TZOFFSETFROM:+0100
TZOFFSETTO:+0200
TZNAME:CEST
DTSTART:20260329T010000
END:DAYLIGHT
BEGIN:STANDARD
TZOFFSETFROM:+0200
TZOFFSETTO:+0100
TZNAME:CET
DTSTART:20261025T010000
END:STANDARD
END:VTIMEZONE
BEGIN:VEVENT
DTSTART;VALUE=DATE:20251128
DTEND;VALUE=DATE:20251201
DTSTAMP:20260424T215056
CREATED:20250810T053144Z
LAST-MODIFIED:20250930T114909Z
UID:10000428-1764288000-1764547199@communitybuilding.com
SUMMARY:The Art of Authentic Connection – Community Building Retreat for Women\, Hungary (CBST)
DESCRIPTION:Women are a connective tissue of a community and have the ability to tune into the dynamics of relationships around them\, to make peace\, embrace different ways\, so that everyone feels heard\, called and recognized. We need to be masters of harmonizing the environment\, so that relationships flow in a loving way. \nMany of our relationship difficulties stem from one root. Generational patterns\, difficult past experiences and social norms are often behind disappointments\, misunderstandings and alienation. Nevertheless\, we can learn new ways of being and communicating that allow us to step out of the familiar patterns and experience connections that are truly meaningful and fulfilling. The purpose of the retreat is to experientially learn\, integrate and practice those key communication principles. \nThis retreat is about just that: what can we do to support real connection\, trust and intimacy? What happens when we take off our usual masks? \nThis three-day Retreat offers an immersive lived experience\, as well as practical guidelines and ways of being for creating safety\, a sense of mutual respect and deep connection in relationships. \nWe offer you a safe space and a like-minded community\, away from daily pressures and responsibilities\, where you can : \n\n experience yourself beyond social roles\,\n have the time to process your emotions and life events\,\n release stress\,\n gain invaluable insights into the relationship dynamics in your life\,\n learn the key ways of bringing your connections to a new soul-fulfilling level\,\n transform arguments into peace and loving connection.\n\nWe will follow the framework of the Community Building Process\, developed by the bestselling author M. Scott Peck. Practicing the suggested guidelines in day-to-day communication enhances a feeling of safety and belonging in relationships and helps build deep mutual respect\, intimacy and connection. We become better listeners and receive the gift of discovering our friends\, family and ourselves on a deeper human level. \n 
URL:https://communitybuilding.com/event/the-art-of-authentic-connection-community-building-retreat-for-women/
LOCATION:Napmajor tanya\, Hosszúszéki dűlő\, Ladánybene\, 6045\, Hungary
CATEGORIES:CBST,English,Hungarian,In Person,Language,Public,Workshop
ATTACH;FMTTYPE=image/png:https://communitybuilding.com/wp-content/uploads/2025/08/CBI-for-women.png
ORGANIZER;CN="Arina Matvejeva":MAILTO:arina.matvejeva@gmail.com
GEO:47.0360061;19.487361
X-APPLE-STRUCTURED-LOCATION;VALUE=URI;X-ADDRESS=Napmajor tanya Hosszúszéki dűlő Ladánybene 6045 Hungary;X-APPLE-RADIUS=500;X-TITLE=Hosszúszéki dűlő:geo:19.487361,47.0360061
END:VEVENT
END:VCALENDAR