BEGIN:VCALENDAR
VERSION:2.0
PRODID:-//Community Building International - ECPv6.15.20//NONSGML v1.0//EN
CALSCALE:GREGORIAN
METHOD:PUBLISH
X-ORIGINAL-URL:https://communitybuilding.com
X-WR-CALDESC:Events for Community Building International
REFRESH-INTERVAL;VALUE=DURATION:PT1H
X-Robots-Tag:noindex
X-PUBLISHED-TTL:PT1H
BEGIN:VTIMEZONE
TZID:America/New_York
BEGIN:DAYLIGHT
TZOFFSETFROM:-0500
TZOFFSETTO:-0400
TZNAME:EDT
DTSTART:20250309T070000
END:DAYLIGHT
BEGIN:STANDARD
TZOFFSETFROM:-0400
TZOFFSETTO:-0500
TZNAME:EST
DTSTART:20251102T060000
END:STANDARD
BEGIN:DAYLIGHT
TZOFFSETFROM:-0500
TZOFFSETTO:-0400
TZNAME:EDT
DTSTART:20260308T070000
END:DAYLIGHT
BEGIN:STANDARD
TZOFFSETFROM:-0400
TZOFFSETTO:-0500
TZNAME:EST
DTSTART:20261101T060000
END:STANDARD
BEGIN:DAYLIGHT
TZOFFSETFROM:-0500
TZOFFSETTO:-0400
TZNAME:EDT
DTSTART:20270314T070000
END:DAYLIGHT
BEGIN:STANDARD
TZOFFSETFROM:-0400
TZOFFSETTO:-0500
TZNAME:EST
DTSTART:20271107T060000
END:STANDARD
END:VTIMEZONE
BEGIN:VEVENT
DTSTART;TZID=America/New_York:20260417T170000
DTEND;TZID=America/New_York:20260419T160000
DTSTAMP:20260424T132856
CREATED:20260224T165103Z
LAST-MODIFIED:20260226T164934Z
UID:10000517-1776445200-1776614400@communitybuilding.com
SUMMARY:Community Building Seminar Vigil
DESCRIPTION:We invite you to an extraordinary event in the field of Community Building – the Community Building Vigil. This will be a Community Building process intensified by an all-night vigil. \nIn his book A Different Drum\, Scott Peck recalls his most powerful spiritual experience\, which occurred right in the middle of such an all-night process. \nLack of sleep weakens the ego’s protective programs. Thanks to this\, we can get closer to our true essence\, gain insight into the real causes of our reactions\, or even move completely beyond them—into the flow of unconditional love. \nAll of this takes place within the Community Building process\, whose intention is to find and remove the barriers that prevent us from accepting ourselves and one another unconditionally\, just as we are. Through this\, we can experience a state of true Community—a group dynamic filled with mutual respect\, dignity\, and safety. \nDate: April 17–19\n (Start on Friday at 5:00 PM\, end on Sunday at 4:00 PM) \nVenue: Perníkovka Forest School and Kindergarten (Lidové sady\, Liberec) \nSeminar fee: CZK 3\,000–5\,000\, according to your financial means \nBank account: 2003448280/2010 \nFacilitated by: Vanda Marečková and team\n Organized by: Anna-Marie Heindorferová\n Language: Czech/ English\n Registration: via this link \nThe number of participants is limited. Please register by April 2\, 2026. \n(Registration is valid only after payment of a non-refundable deposit of CZK 2\,000 to the bank account: 2300696395 / 2010. Please include the note: Vigil 4/26\, surname.\n The deposit is non-refundable; however\, you may find a substitute participant. If the event does not take place\, the deposit will be refunded to you.)
URL:https://communitybuilding.com/event/community-building-seminar-vigil/
LOCATION:Areál lesní školy a školky Perníkovka (Lidové sady\, Liberec)\, Lidové sady\, Liberec\, Liberecký kraj\, 46001\, Czech Republic
CATEGORIES:CBW,Czech,English,In Person,Public
ORGANIZER;CN="Anna- Marie Heindorferov%C3%A1":MAILTO:annamarieheindorferova@gmail.com
GEO:50.7774702;15.0814494
X-APPLE-STRUCTURED-LOCATION;VALUE=URI;X-ADDRESS=Areál lesní školy a školky Perníkovka (Lidové sady Liberec) Lidové sady Liberec Liberecký kraj 46001 Czech Republic;X-APPLE-RADIUS=500;X-TITLE=Lidové sady:geo:15.0814494,50.7774702
END:VEVENT
END:VCALENDAR