BEGIN:VCALENDAR
VERSION:2.0
PRODID:-//Community Building International - ECPv6.15.20//NONSGML v1.0//EN
CALSCALE:GREGORIAN
METHOD:PUBLISH
X-ORIGINAL-URL:https://communitybuilding.com
X-WR-CALDESC:Events for Community Building International
REFRESH-INTERVAL;VALUE=DURATION:PT1H
X-Robots-Tag:noindex
X-PUBLISHED-TTL:PT1H
BEGIN:VTIMEZONE
TZID:America/New_York
BEGIN:DAYLIGHT
TZOFFSETFROM:-0500
TZOFFSETTO:-0400
TZNAME:EDT
DTSTART:20250309T070000
END:DAYLIGHT
BEGIN:STANDARD
TZOFFSETFROM:-0400
TZOFFSETTO:-0500
TZNAME:EST
DTSTART:20251102T060000
END:STANDARD
BEGIN:DAYLIGHT
TZOFFSETFROM:-0500
TZOFFSETTO:-0400
TZNAME:EDT
DTSTART:20260308T070000
END:DAYLIGHT
BEGIN:STANDARD
TZOFFSETFROM:-0400
TZOFFSETTO:-0500
TZNAME:EST
DTSTART:20261101T060000
END:STANDARD
BEGIN:DAYLIGHT
TZOFFSETFROM:-0500
TZOFFSETTO:-0400
TZNAME:EDT
DTSTART:20270314T070000
END:DAYLIGHT
BEGIN:STANDARD
TZOFFSETFROM:-0400
TZOFFSETTO:-0500
TZNAME:EST
DTSTART:20271107T060000
END:STANDARD
END:VTIMEZONE
BEGIN:VTIMEZONE
TZID:Europe/Budapest
BEGIN:DAYLIGHT
TZOFFSETFROM:+0100
TZOFFSETTO:+0200
TZNAME:CEST
DTSTART:20250330T010000
END:DAYLIGHT
BEGIN:STANDARD
TZOFFSETFROM:+0200
TZOFFSETTO:+0100
TZNAME:CET
DTSTART:20251026T010000
END:STANDARD
BEGIN:DAYLIGHT
TZOFFSETFROM:+0100
TZOFFSETTO:+0200
TZNAME:CEST
DTSTART:20260329T010000
END:DAYLIGHT
BEGIN:STANDARD
TZOFFSETFROM:+0200
TZOFFSETTO:+0100
TZNAME:CET
DTSTART:20261025T010000
END:STANDARD
BEGIN:DAYLIGHT
TZOFFSETFROM:+0100
TZOFFSETTO:+0200
TZNAME:CEST
DTSTART:20270328T010000
END:DAYLIGHT
BEGIN:STANDARD
TZOFFSETFROM:+0200
TZOFFSETTO:+0100
TZNAME:CET
DTSTART:20271031T010000
END:STANDARD
END:VTIMEZONE
BEGIN:VEVENT
DTSTART;TZID=America/New_York:20260528T130000
DTEND;TZID=America/New_York:20260528T143000
DTSTAMP:20260424T160716
CREATED:20260220T114432Z
LAST-MODIFIED:20260220T114752Z
UID:10000460-1779973200-1779978600@communitybuilding.com
SUMMARY:FIT Webinar: CBI Updates\, Feedback and Ask Edward\, Vanda and Simone Anything!
DESCRIPTION:The last Thursday of every month will be a webinar with Edward and Vanda or Simone\, the topic is CBI updates\, Feedback\, Question & Answer\, “Ask us Anything!”. \nWebinar Dates in 2026: Last Thursday of every month — February 26\, March 26\, April 30\, May 28\, June 25\, July 30\, August 27\, September 24\, October 29\, November 26. \nWebinar Time: \n\nEST – 1pm – 2pm Webinar\nCEST – 7pm – 8pm Webinar\n\nThis webinar will be presented in English over Zoom. \nLog-in to access the “Watch” button below! \n  \n 
URL:https://communitybuilding.com/event/fit-monthly-webinar/2026-05-28/
LOCATION:Online
CATEGORIES:English,Facilitated by Edward Groody,Language,Virtual,Webinar
ATTACH;FMTTYPE=image/jpeg:https://communitybuilding.com/wp-content/uploads/2024/07/webinar-cover-scaled-e1720283649433.jpg
END:VEVENT
BEGIN:VEVENT
DTSTART;TZID=Europe/Budapest:20260529T083000
DTEND;TZID=Europe/Budapest:20260531T163000
DTSTAMP:20260424T160716
CREATED:20260317T222102Z
LAST-MODIFIED:20260317T223332Z
UID:10000518-1780043400-1780245000@communitybuilding.com
SUMMARY:Community Building Workshop (CBW) "Authentic Connection" Budapest
DESCRIPTION:The CBW is a workshop developed by M. Scott Peck based on thirty years of observation. It’s an invitation to learn\, not merely through intellect\, but through direct experience. \nAt its heart\, the CBW is a shared journey toward deeper and more authentic communication. Rather than relying on rigid agendas or prescribed techniques\, it rests upon a simple but demanding set of principles and guidelines. Within this structure\, participants are gently accompanied by trained facilitators\, whose role is not to direct\, but to hold the space in which truth may gradually emerge. \nAs the process unfolds\, individuals are encouraged—often challenged—to look beyond the familiar boundaries of culture\, politics\, and religion. In doing so\, they begin to encounter one another not as roles or identities\, but as fellow human beings. This movement\, from fragmentation toward wholeness\, lies at the core of the experience. \nThe ultimate aim of a CBW is not the exchange of ideas\, but the transformation of relationship: the discovery\, however fleeting\, of what it means “true community”—where honesty replaces pretense\, and connection arises from the courage to be seen and to see others as they are.
URL:https://communitybuilding.com/event/community-building-workshop-cbw-budapest/
LOCATION:Vendel Irodaház\, Vendel u. 11. Vendel I. Konferenciaterem 4. emelet\, Budapest\, 1096\, Hungary
CATEGORIES:CBW,English,Facilitated by Edward Groody,Public
ATTACH;FMTTYPE=image/jpeg:https://communitybuilding.com/wp-content/uploads/2026/03/CBW-scaled.jpg
ORGANIZER;CN="Zsuzsa Cs%C3%A1k":MAILTO:zsuzsaversum@gmail.com
GEO:47.4791919;19.0799584
X-APPLE-STRUCTURED-LOCATION;VALUE=URI;X-ADDRESS=Vendel Irodaház Vendel u. 11. Vendel I. Konferenciaterem 4. emelet Budapest 1096 Hungary;X-APPLE-RADIUS=500;X-TITLE=Vendel u. 11. Vendel I. Konferenciaterem 4. emelet:geo:19.0799584,47.4791919
END:VEVENT
END:VCALENDAR