BEGIN:VCALENDAR
VERSION:2.0
PRODID:-//Community Building International - ECPv6.15.20//NONSGML v1.0//EN
CALSCALE:GREGORIAN
METHOD:PUBLISH
X-WR-CALNAME:Community Building International
X-ORIGINAL-URL:https://communitybuilding.com
X-WR-CALDESC:Events for Community Building International
REFRESH-INTERVAL;VALUE=DURATION:PT1H
X-Robots-Tag:noindex
X-PUBLISHED-TTL:PT1H
BEGIN:VTIMEZONE
TZID:Europe/Zurich
BEGIN:DAYLIGHT
TZOFFSETFROM:+0100
TZOFFSETTO:+0200
TZNAME:CEST
DTSTART:20250330T010000
END:DAYLIGHT
BEGIN:STANDARD
TZOFFSETFROM:+0200
TZOFFSETTO:+0100
TZNAME:CET
DTSTART:20251026T010000
END:STANDARD
BEGIN:DAYLIGHT
TZOFFSETFROM:+0100
TZOFFSETTO:+0200
TZNAME:CEST
DTSTART:20260329T010000
END:DAYLIGHT
BEGIN:STANDARD
TZOFFSETFROM:+0200
TZOFFSETTO:+0100
TZNAME:CET
DTSTART:20261025T010000
END:STANDARD
BEGIN:DAYLIGHT
TZOFFSETFROM:+0100
TZOFFSETTO:+0200
TZNAME:CEST
DTSTART:20270328T010000
END:DAYLIGHT
BEGIN:STANDARD
TZOFFSETFROM:+0200
TZOFFSETTO:+0100
TZNAME:CET
DTSTART:20271031T010000
END:STANDARD
END:VTIMEZONE
BEGIN:VEVENT
DTSTART;VALUE=DATE:20260114
DTEND;VALUE=DATE:20260117
DTSTAMP:20260424T230818
CREATED:20251216T182010Z
LAST-MODIFIED:20251217T125158Z
UID:10000439-1768348800-1768607999@communitybuilding.com
SUMMARY:Community Building Skills Training
DESCRIPTION:This 3 day workshop takes place as a part of an event organized by “Creating Transformative Culteres” – EDE = Ecovillage Design Education\, a 5 week course with a lot of community building from January 8th to February 14th. \nEdward Groody was invited by the Co-founder Sonja-Vera to be present with a team to practice the Community Building by Scott Peck during this gathering. \nYou can sign in for this 5 week experiance through the website of Creating Transformative Cultures
URL:https://communitybuilding.com/event/community-building-skills-training/
LOCATION:Schloss Glarisegg\, Switzerland\, Schloss Glarisegg\, Steckborn\, 8266\, Switzerland
CATEGORIES:CBST,Closed,English,Facilitated by Edward Groody,In Person
ATTACH;FMTTYPE=image/jpeg:https://communitybuilding.com/wp-content/uploads/2025/12/Group-Power1_1-scaled.jpg
ORGANIZER;CN="Creating Transformative Cultures":MAILTO:contact@transformative-cultures.com
GEO:47.6548813;8.9566506
X-APPLE-STRUCTURED-LOCATION;VALUE=URI;X-ADDRESS=Schloss Glarisegg Switzerland Schloss Glarisegg Steckborn 8266 Switzerland;X-APPLE-RADIUS=500;X-TITLE=Schloss Glarisegg:geo:8.9566506,47.6548813
END:VEVENT
END:VCALENDAR