BEGIN:VCALENDAR
VERSION:2.0
PRODID:-//Community Building International - ECPv6.15.20//NONSGML v1.0//EN
CALSCALE:GREGORIAN
METHOD:PUBLISH
X-WR-CALNAME:Community Building International
X-ORIGINAL-URL:https://communitybuilding.com
X-WR-CALDESC:Events for Community Building International
REFRESH-INTERVAL;VALUE=DURATION:PT1H
X-Robots-Tag:noindex
X-PUBLISHED-TTL:PT1H
BEGIN:VTIMEZONE
TZID:Europe/Berlin
BEGIN:DAYLIGHT
TZOFFSETFROM:+0100
TZOFFSETTO:+0200
TZNAME:CEST
DTSTART:20250330T010000
END:DAYLIGHT
BEGIN:STANDARD
TZOFFSETFROM:+0200
TZOFFSETTO:+0100
TZNAME:CET
DTSTART:20251026T010000
END:STANDARD
BEGIN:DAYLIGHT
TZOFFSETFROM:+0100
TZOFFSETTO:+0200
TZNAME:CEST
DTSTART:20260329T010000
END:DAYLIGHT
BEGIN:STANDARD
TZOFFSETFROM:+0200
TZOFFSETTO:+0100
TZNAME:CET
DTSTART:20261025T010000
END:STANDARD
BEGIN:DAYLIGHT
TZOFFSETFROM:+0100
TZOFFSETTO:+0200
TZNAME:CEST
DTSTART:20270328T010000
END:DAYLIGHT
BEGIN:STANDARD
TZOFFSETFROM:+0200
TZOFFSETTO:+0100
TZNAME:CET
DTSTART:20271031T010000
END:STANDARD
END:VTIMEZONE
BEGIN:VTIMEZONE
TZID:America/New_York
BEGIN:DAYLIGHT
TZOFFSETFROM:-0500
TZOFFSETTO:-0400
TZNAME:EDT
DTSTART:20250309T070000
END:DAYLIGHT
BEGIN:STANDARD
TZOFFSETFROM:-0400
TZOFFSETTO:-0500
TZNAME:EST
DTSTART:20251102T060000
END:STANDARD
BEGIN:DAYLIGHT
TZOFFSETFROM:-0500
TZOFFSETTO:-0400
TZNAME:EDT
DTSTART:20260308T070000
END:DAYLIGHT
BEGIN:STANDARD
TZOFFSETFROM:-0400
TZOFFSETTO:-0500
TZNAME:EST
DTSTART:20261101T060000
END:STANDARD
BEGIN:DAYLIGHT
TZOFFSETFROM:-0500
TZOFFSETTO:-0400
TZNAME:EDT
DTSTART:20270314T070000
END:DAYLIGHT
BEGIN:STANDARD
TZOFFSETFROM:-0400
TZOFFSETTO:-0500
TZNAME:EST
DTSTART:20271107T060000
END:STANDARD
END:VTIMEZONE
BEGIN:VEVENT
DTSTART;TZID=Europe/Berlin:20260730T170000
DTEND;TZID=Europe/Berlin:20260802T160000
DTSTAMP:20260424T180338
CREATED:20260411T151325Z
LAST-MODIFIED:20260411T151729Z
UID:10000524-1785430800-1785686400@communitybuilding.com
SUMMARY:Community Building Workshop At Mokri Potok Ecovillage (Slovenia)
DESCRIPTION:“It is a serious thing to be alive on this fresh morning in this broken world.” — Mary Oliver\n\nSeparation. Scarcity. A crisis of belonging. These are what we have inherited from the structures of power and economy in our modern era. We face a loneliness epidemic\, societal unravelling\, unprecedented biodiversity loss and historic wealth inequality.\nIn this current climate\, things can often seem hopeless. It can feel like there are no viable alternatives. But this isn’t the first time humans have faced collapse. In reality\, there are alternatives. Tools and methods exist which can help us build resilience\, solidarity\, and mutual flourishing for all beings — not just humans. Techniques to build authentic connection\, unusual safety and extraordinary respect have been identified and are waiting to be adopted and put into shared practice.\nCommunity in this sense of the word moves beyond a simple noun\, or thing\, and becomes intentional and active: an actual lived experience of deep relationship with ourselves\, each other\, and the wider ecology in which we live.\n\n INVITATION\nWe invite you into exactly this kind of experience which will take place at Mokri Potok\, an eco-village in Slovenia\, where people are continuously exploring what it means to live in relationship\, with each other and with the land. During the Community Building Process in the tradition of M. Scott Peck\, we learn how to create the conditions for a true encounter. We learn how to navigate what is non-obvious\, alive\, and often uncomfortable in relationships\, without the need to immediately solve or control whatever arises. It is a form of group meditation\, a shared being-with-what-is\, in which both tensions and the potential for deeper connection gradually reveal themselves. This process allows us to see what ordinarily remains hidden beneath habitual communication patterns and social roles\, and creates space to try being with one another in a different way. Over 4 days\, under the caring guidance of trained facilitators\, we will immerse ourselves in this process. We will explore ways of being together which support deeper self-insight\, authenticity\, trust\, respect\, and collaboration. We will learn practical guidelines for passing through the phases of the process — from pseudo-community (where we are pleasant to one another\, but relationships remain fairly surface-level)\, through chaos and emptiness\, all the way to true community (where we might feel a deep bond\, respect\, or even love\, despite our differences).\nRead more about the process here: https://www.thelivingbridge.earth/community_building…\n REGISTRATION: https://forms.gle/9FQPFiDSwcLM1UGB7___________________________________\n\n ABOUT THE METHOD\nThe Community Building Process was developed in the second half of the 20th century by psychiatrist and author Dr. M. Scott Peck as a response to growing polarization\, loneliness\, and isolation in modern societies. Peck saw the loss of authentic community as one of the main sources of social problems and conflict. He developed a set of communication guidelines that support rebuilding trust\, safety\, and a sense of community within a group. Workshop participants have the opportunity both to learn these principles and to experience them directly. Since the late 20th century\, the method has been developed and adapted for various contexts from organizations and intentional communities\, to work with marginalized groups\, to environments affected by conflict. Today\, this work is continued by Community Building International — an organization founded by Scott Peck’s student Edward Groody — which offers\, among other things\, facilitator training. More at: https://communitybuilding.com/\n___________________________________\n\n\n FACILITATION\nThe workshop will be led by a team of facilitators trained\, certified\, and supervised by Community Building International:Asia Gumieniak and Danny Iacono. Co-founders of The Living Bridge — a foundation supporting the development of relationality\, reciprocity\, and connectivity in human spaces. They combine various approaches to working with relationships and community. Both are sociologists by training\, currently deepening practices rooted in relationality. Asia’s include: eco-therapy (Pacifica Graduate Institute)\, Authentic Relating (ART International)\, and Sociocracy (Sociocracy For All). Danny’s include mythopoetics and storytelling (Mythic Body by Josh Shrei)\, as well as deep conversations on The Passing Through Podcast\, of which he is the creator and host.___________________________________\n\n VENUE\nEcovillage Mokri Potok is located in a forested area of the Kočevsko region in the south of Slovenia. It is a relatively remote and peaceful place\, surrounded by small streams\, gentle hills\, and a few open meadows. The nearest town with services\, Kočevje\, is about 15 km away. The ecovillage currently consists of four family homes\, with plans to gradually expand to around seven family houses or small homesteads\, together with shared community spaces.At the event location there is an open outdoor kitchen where we will prepare our meals\, a large tipi for evening gatherings around the fire\, and a yurt where the workshop will take place. On the land you will also find compost toilets and solar showers. A nearby stream offers a refreshing place for washing or cooling down during breaks.There will be a designated area nearby for setting up tents (please bring your own tent and sleeping equipment). As the venue is located in higher altitude nights can be fresh. The surrounding forests are home to abundant wildlife\, and it is not uncommon to see deer passing quietly through the landscape.\n__________________________________\n\n WHO IS IT FOR?\nWe invite everyone who wants to build more authentic relationships\, gain insight into themselves and their relational self\, and learn how to move beyond pseudo-community and chaos in their social groups. The workshop may be of particular interest to people who work with groups or co-create organizations and communities — but it is truly for anyone who is ready to be present and meet whatever arises. No experience or preparation is required. Experience shows that this workshop — through encountering a different way of being — can be a turning point which contributes to enduring changes in our relationships in everyday life. If you feel this might be for you but have questions or doubts\, feel free to write to us!___________________________________\n LOGISTICS\n\nDATESStart: Thursday\, July 30th at 5:00 PMEnd: Sunday\, August 2nd at 4:00 PM\nDue to the nature of the process\, partial attendance is not possible. By signing up for the workshop\, you commit to participating in its entirety.\n\n ACCOMMODATIONWe sleep outdoors on the grounds of the ecovillage. Bring a tent\, sleeping bag\, and sleeping mat. Need more comfort? There are limited spaces for indoor accommodation in the ecovillage and its surroundings\, please contact organiser for that option.\n\n WHAT TO BRINGTent\, sleeping mat and bag (if you’re planning to sleep on-site)\, torch\, appropriate footwear and clothing suited to the forecasted weather. Please bring biodegradable toiletries (or use ours)\, and if you wish\, natural tick repellent. As nights can be fresh in the forest\, bring warm clothes for evenings and mornings.\n\n FOODEach day\, as an activity supporting community building\, we plan to collectively prepare delicious vegetarian meals (breakfast\, lunch\, and dinner). During breaks we also offer snacks\, coffee\, and tea.\n\n GETTING THEREBecause Mokri Potok is located in a peaceful and relatively remote natural area\, most participants choose to arrive by car. When registering for the event\, you will have the option to coordinate car sharing with other participants. The drive from Ljubljana takes about one hour. The final 1.5 km is a gravel forest road\, which is usually accessible with a regular car. If you prefer to travel by public transport\, the closest town is Kočevje\, about 15 km from the venue. Kočevje can be reached from Ljubljana by train or bus. From there\, we will be happy to arrange a pickup and bring you to Mokri Potok.\n\nCOSTWe are learning to build a culture of reciprocity and gratitude\, and so we wish to offer this workshop in the spirit of a gift economy. If this experience is of value to you\, we encourage you to support our future work through a donation of any amount. We invite you to decide on the size of your contribution bearing in mind both your own means and the organizers’ costs. This applies to the workshop itself as well as accommodation and shared meals. You will be able to make this donation at the end of the workshop. For reference\, the typical prices for a 4-days workshop including accommodation and meals range between 200–500 EUR. To reserve your place\, please pay a deposit of 90 EUR to Društvo Mokri Potok account:IBAN SI56 6100 0003 1100 390.The deposit can be fully refunded at your request after the workshop concludes (if you participate in the full event)\, or if you prefer\, it can be applied toward your donation. If we do not reach the minimum number of participants two weeks before the event\, the workshop will be cancelled and all deposits will be returned in full.\n\n LANGUAGEThe workshop will be held in English.\n\n REGISTRATION: https://forms.gle/9FQPFiDSwcLM1UGB7Places are limited. We can’t wait to build community with you!\n\nIMPORTANTThe workshop can be emotionally intense. If you are currently in psychotherapy\, please consult your therapist before participating. At the same time\, the workshop is not psychotherapy and does not replace it. If you are currently going through a serious crisis\, please consider whether this is the right moment to attend. If in doubt\, contact us.___________________________________\n\n WHAT OTHERS SAY\n\n“Community building is the therapeutic art of remembering together who we are.”\n\n“I had long intuitively dreamed of a space like the one we experienced during the workshop. A space where chaos and ’emptying out’ are welcome\, even necessary. Where each person can safely express what is alive in them and in need of expression. I was surprised by how little it took for me to become attached to specific people and to stay in touch after the workshop\, while at the same time a sense of something greater than the sum of individuals stayed with me for a long time. What was new and unique happened somehow between us: beyond what each person brought individually. For me it was an experience of what can emerge when we truly meet\, and how deeply needed and powerful that is. I would love to experience this ‘magic’ more often. (…) I feel deeply moved and inspired.”\n\n“It’s hard to put into words what this experience actually is. For me it differs from other forms of group work or therapy\, from personal development workshops or family constellations. It is something else. Very powerful\, and at the same time natural\, organic\, and deeply human.”\n\n“The workshop was a very important time for me\, one in which I was able to genuinely experience how deeply similar we are to one another\, at a profound level. Being in a group of strangers had always been a challenge for me and a source of tension and stress. It was hard for me to feel safe. Groups trigger in me a fear of rejection\, of judgment\, and probably many other fears. The experience of the Community Building Workshop was a breakthrough for me\, because it is one thing to know something theoretically\, and quite another to be able to experience in your body a sense of safety built on deep connection\, on courageously expressed truth.”\n\n“What moves me most is truth. Space for truth and authenticity is so enormously important. The most important thing I experienced was the fact that the risk taken in expressing your truth and vulnerability brings you closer to others\, though it takes courage to take that risk.”
URL:https://communitybuilding.com/event/community-building-workshop-at-mokri-potok-ecovillage/
LOCATION:Mokri Potok Ecovillage\, Mokri Potok\, Kočevje\, Slovenia
CATEGORIES:CBW,English,In Person,Public
ATTACH;FMTTYPE=image/png:https://communitybuilding.com/wp-content/uploads/2026/04/CBW-Mokri-Potok-1.png
ORGANIZER;CN="The Living Bridge":MAILTO:info@thelivingbridge.earth
GEO:45.5546596;14.8222629
X-APPLE-STRUCTURED-LOCATION;VALUE=URI;X-ADDRESS=Mokri Potok Ecovillage Mokri Potok Kočevje Slovenia;X-APPLE-RADIUS=500;X-TITLE=Mokri Potok:geo:14.8222629,45.5546596
END:VEVENT
BEGIN:VEVENT
DTSTART;TZID=America/New_York:20260806T130000
DTEND;TZID=America/New_York:20260806T143000
DTSTAMP:20260424T180338
CREATED:20240919T152200Z
LAST-MODIFIED:20260108T101042Z
UID:10000448-1786021200-1786026600@communitybuilding.com
SUMMARY:Global Online Circle (Monthly)
DESCRIPTION:Need a dose of peace and connection? Dip into the pool of Community. Every month a global circle of fellow Community Builders. One and a half hours.  \nNote: For CBW and/or Art of Connection: CBST alumni only. Log-on for Virtual Event details. To learn more about these programs\, please click here.  No Registration Available\, Simply Log-on and Attend 🙂   \n\n\n\nThis Is What Will Happen During The Global Circle:\n\n\n\n\nFacilitators will do a brief introduction and review the purpose of our time together.\n\n\n\nWe will share our name\, where we were born\, where we live now\, and commit toconfidentiality.\n\n\n\nWe will review the guidelines and how Circle Time is a little different than the 3-day workshop.\n\n\n\nWe will then have 3 minutes of silence where you have time to think about what you will share.\n\n\n\nDuring the silence\, reflect on these questions:\n\n\n\n\n\nWhat are you feeling right now? What you feeling deeper under the surface?\n\n\n\nWhat is going on with you? What is going on in your life? What challenges are youfacing? How are you feeling about yourself and your life?\n\n\n\nWhat would you like for others to know about you?\n\n\n\nIs there anything you want to let go of and leave in the circle?\n\n\n\n\n6. After 3 minutes of silence\, you will be asked to speak if you are moved to speak. \n\n\n\nGuidelines for Communication\n\n\n\n\nUse “I” statements. Speak about yourself only.\n\n\n\nSpeak when moved to speak. Do not speak when not moved to speak.\n\n\n\nDo not fix others\, i.e.\, do not console\, teach\, preach or give advice.\n\n\n\nLeave time for Silence before and after someone speaks.\n\n\n\nBe mindful of how much time you speak. Allow time for others to share.\n\n\n\n\nNOTE: The facilitators may be more interactive than usual and offer suggestions and instructions due to our limited time together. \n\n\n\nThe Global Circle will be conducted in English. We expect to offer translation in the future. If you do not speak English\, you are still welcome to be in the circle and soak up the CB experience.The Global Circle will last 1 hour 15 minutes. Those people interested may stay online longer. \n\n\n\nAbout the Virtual Zoom Platform\n\n\n\n\nDon’t worry about how to work ZOOM. Your facilitators will help you if you need it.\n\n\n\nVideo ON during the global circle.\n\n\n\nBe aware of your background to avoid unnecessary distractions.\n\n\n\n\nOur Purpose/Goal: Build Connection and Community\n\n\n\n\nLet go of personal obstacles to being authentic.\n\n\n\nBuild trust and relationships with fellow participants.\n\n\n\nExperience the 4th stage of the CB process – true Community.
URL:https://communitybuilding.com/event/global-online-circle-monthly/2026-08-06/
LOCATION:Online
CATEGORIES:Closed,English,Language,Ongoing Circle
ATTACH;FMTTYPE=image/jpeg:https://communitybuilding.com/wp-content/uploads/2023/11/circles-in-the-water-2022-10-31-21-36-28-utc-scaled.jpg
ORGANIZER;CN="CBI Admin":MAILTO:admin@communitybuilding.com
END:VEVENT
BEGIN:VEVENT
DTSTART;TZID=Europe/Berlin:20260816T140000
DTEND;TZID=Europe/Berlin:20260816T190000
DTSTAMP:20260424T180338
CREATED:20240116T175256Z
LAST-MODIFIED:20241108T163031Z
UID:10000155-1786888800-1786906800@communitybuilding.com
SUMMARY:Monthly Community Building Circle (Germany)
DESCRIPTION:Ongoing meetings for everyone who wants to stick with it and continue to bring the art of encounters into everyday life.  \nYou are welcome to take part in the regular circle if you have taken part in at least one workshop or community building skills training. And want to stick with it. Because that’s what it’s all about: continuing to practice community building and incorporating it into everyday life. \nWe come together in a circle – similar to the classic community building workshop – and follow Scott Peck’s discussion recommendations. \nPlease send us a short email if you would like to take part: servus@ammerseeinstitut.de or register via this link:  https://www.ammerseeinstitut.de/event-details/monatlicher-cb-circle \nFrequency/participation \n\nOnce a month\nCommitment: We recommend regular participation\, but it is also possible to come only now and then.\nAnyone who has already taken part in a workshop or community building skills training or who has received an introduction can take part.\n\nLength of time: 5 hours \nCost: Contribution to expenses\, depending on financial possibilities\, 30 – 50 euros \nWorkshop format \n\nEssentially\, the format is very similar to that of the community building workshop\, i.e. there will mainly be time in a circle and the group will be based on Scott Peck’s discussion recommendations.\nWe try out different forms of accompaniment. In addition to the classic form\, the “Group of all leaders” has proven successful – i.e. a process without a facilitator or only with very selective input\nDepending on the wishes and needs of the group\, we also include exercises from our method kit\, the community building skills training.
URL:https://communitybuilding.com/event/monthlycircle-germany/2026-08-16/
LOCATION:Utting am Ammersee\, Bahnhofstraße 31\, Utting am Ammersee\, 86919\, Germany
CATEGORIES:German,In Person,Ongoing Circle,Public
ATTACH;FMTTYPE=image/webp:https://communitybuilding.com/wp-content/uploads/2024/01/germany-2.webp
ORGANIZER;CN="Simone Kosog":MAILTO:simone@communitybuilding.com
GEO:48.0237748;11.0922956
X-APPLE-STRUCTURED-LOCATION;VALUE=URI;X-ADDRESS=Utting am Ammersee Bahnhofstraße 31 Utting am Ammersee 86919 Germany;X-APPLE-RADIUS=500;X-TITLE=Bahnhofstraße 31:geo:11.0922956,48.0237748
END:VEVENT
BEGIN:VEVENT
DTSTART;TZID=America/New_York:20260827T130000
DTEND;TZID=America/New_York:20260827T143000
DTSTAMP:20260424T180338
CREATED:20260220T114432Z
LAST-MODIFIED:20260220T114752Z
UID:10000463-1787835600-1787841000@communitybuilding.com
SUMMARY:FIT Webinar: CBI Updates\, Feedback and Ask Edward\, Vanda and Simone Anything!
DESCRIPTION:The last Thursday of every month will be a webinar with Edward and Vanda or Simone\, the topic is CBI updates\, Feedback\, Question & Answer\, “Ask us Anything!”. \nWebinar Dates in 2026: Last Thursday of every month — February 26\, March 26\, April 30\, May 28\, June 25\, July 30\, August 27\, September 24\, October 29\, November 26. \nWebinar Time: \n\nEST – 1pm – 2pm Webinar\nCEST – 7pm – 8pm Webinar\n\nThis webinar will be presented in English over Zoom. \nLog-in to access the “Watch” button below! \n  \n 
URL:https://communitybuilding.com/event/fit-monthly-webinar/2026-08-27/
LOCATION:Online
CATEGORIES:English,Facilitated by Edward Groody,Language,Virtual,Webinar
ATTACH;FMTTYPE=image/jpeg:https://communitybuilding.com/wp-content/uploads/2024/07/webinar-cover-scaled-e1720283649433.jpg
END:VEVENT
END:VCALENDAR