BEGIN:VCALENDAR
VERSION:2.0
PRODID:-//Community Building International - ECPv6.15.20//NONSGML v1.0//EN
CALSCALE:GREGORIAN
METHOD:PUBLISH
X-WR-CALNAME:Community Building International
X-ORIGINAL-URL:https://communitybuilding.com
X-WR-CALDESC:Events for Community Building International
REFRESH-INTERVAL;VALUE=DURATION:PT1H
X-Robots-Tag:noindex
X-PUBLISHED-TTL:PT1H
BEGIN:VTIMEZONE
TZID:America/New_York
BEGIN:DAYLIGHT
TZOFFSETFROM:-0500
TZOFFSETTO:-0400
TZNAME:EDT
DTSTART:20290311T070000
END:DAYLIGHT
BEGIN:STANDARD
TZOFFSETFROM:-0400
TZOFFSETTO:-0500
TZNAME:EST
DTSTART:20291104T060000
END:STANDARD
BEGIN:DAYLIGHT
TZOFFSETFROM:-0500
TZOFFSETTO:-0400
TZNAME:EDT
DTSTART:20300310T070000
END:DAYLIGHT
BEGIN:STANDARD
TZOFFSETFROM:-0400
TZOFFSETTO:-0500
TZNAME:EST
DTSTART:20301103T060000
END:STANDARD
BEGIN:DAYLIGHT
TZOFFSETFROM:-0500
TZOFFSETTO:-0400
TZNAME:EDT
DTSTART:20310309T070000
END:DAYLIGHT
BEGIN:STANDARD
TZOFFSETFROM:-0400
TZOFFSETTO:-0500
TZNAME:EST
DTSTART:20311102T060000
END:STANDARD
BEGIN:DAYLIGHT
TZOFFSETFROM:-0500
TZOFFSETTO:-0400
TZNAME:EDT
DTSTART:20320314T070000
END:DAYLIGHT
BEGIN:STANDARD
TZOFFSETFROM:-0400
TZOFFSETTO:-0500
TZNAME:EST
DTSTART:20321107T060000
END:STANDARD
END:VTIMEZONE
BEGIN:VEVENT
DTSTART;TZID=America/New_York:20300328T130000
DTEND;TZID=America/New_York:20300328T143000
DTSTAMP:20260424T213206
CREATED:20260220T114432Z
LAST-MODIFIED:20260220T114752Z
UID:10000506-1900933200-1900938600@communitybuilding.com
SUMMARY:FIT Webinar: CBI Updates\, Feedback and Ask Edward\, Vanda and Simone Anything!
DESCRIPTION:The last Thursday of every month will be a webinar with Edward and Vanda or Simone\, the topic is CBI updates\, Feedback\, Question & Answer\, “Ask us Anything!”. \nWebinar Dates in 2026: Last Thursday of every month — February 26\, March 26\, April 30\, May 28\, June 25\, July 30\, August 27\, September 24\, October 29\, November 26. \nWebinar Time: \n\nEST – 1pm – 2pm Webinar\nCEST – 7pm – 8pm Webinar\n\nThis webinar will be presented in English over Zoom. \nLog-in to access the “Watch” button below! \n  \n 
URL:https://communitybuilding.com/event/fit-monthly-webinar/2030-03-28/
LOCATION:Online
CATEGORIES:English,Facilitated by Edward Groody,Language,Virtual,Webinar
ATTACH;FMTTYPE=image/jpeg:https://communitybuilding.com/wp-content/uploads/2024/07/webinar-cover-scaled-e1720283649433.jpg
END:VEVENT
BEGIN:VEVENT
DTSTART;TZID=America/New_York:20300425T130000
DTEND;TZID=America/New_York:20300425T143000
DTSTAMP:20260424T213206
CREATED:20260220T114432Z
LAST-MODIFIED:20260220T114752Z
UID:10000507-1903352400-1903357800@communitybuilding.com
SUMMARY:FIT Webinar: CBI Updates\, Feedback and Ask Edward\, Vanda and Simone Anything!
DESCRIPTION:The last Thursday of every month will be a webinar with Edward and Vanda or Simone\, the topic is CBI updates\, Feedback\, Question & Answer\, “Ask us Anything!”. \nWebinar Dates in 2026: Last Thursday of every month — February 26\, March 26\, April 30\, May 28\, June 25\, July 30\, August 27\, September 24\, October 29\, November 26. \nWebinar Time: \n\nEST – 1pm – 2pm Webinar\nCEST – 7pm – 8pm Webinar\n\nThis webinar will be presented in English over Zoom. \nLog-in to access the “Watch” button below! \n  \n 
URL:https://communitybuilding.com/event/fit-monthly-webinar/2030-04-25/
LOCATION:Online
CATEGORIES:English,Facilitated by Edward Groody,Language,Virtual,Webinar
ATTACH;FMTTYPE=image/jpeg:https://communitybuilding.com/wp-content/uploads/2024/07/webinar-cover-scaled-e1720283649433.jpg
END:VEVENT
BEGIN:VEVENT
DTSTART;TZID=America/New_York:20300530T130000
DTEND;TZID=America/New_York:20300530T143000
DTSTAMP:20260424T213206
CREATED:20260220T114432Z
LAST-MODIFIED:20260220T114752Z
UID:10000508-1906376400-1906381800@communitybuilding.com
SUMMARY:FIT Webinar: CBI Updates\, Feedback and Ask Edward\, Vanda and Simone Anything!
DESCRIPTION:The last Thursday of every month will be a webinar with Edward and Vanda or Simone\, the topic is CBI updates\, Feedback\, Question & Answer\, “Ask us Anything!”. \nWebinar Dates in 2026: Last Thursday of every month — February 26\, March 26\, April 30\, May 28\, June 25\, July 30\, August 27\, September 24\, October 29\, November 26. \nWebinar Time: \n\nEST – 1pm – 2pm Webinar\nCEST – 7pm – 8pm Webinar\n\nThis webinar will be presented in English over Zoom. \nLog-in to access the “Watch” button below! \n  \n 
URL:https://communitybuilding.com/event/fit-monthly-webinar/2030-05-30/
LOCATION:Online
CATEGORIES:English,Facilitated by Edward Groody,Language,Virtual,Webinar
ATTACH;FMTTYPE=image/jpeg:https://communitybuilding.com/wp-content/uploads/2024/07/webinar-cover-scaled-e1720283649433.jpg
END:VEVENT
BEGIN:VEVENT
DTSTART;TZID=America/New_York:20300627T130000
DTEND;TZID=America/New_York:20300627T143000
DTSTAMP:20260424T213206
CREATED:20260220T114432Z
LAST-MODIFIED:20260220T114752Z
UID:10000509-1908795600-1908801000@communitybuilding.com
SUMMARY:FIT Webinar: CBI Updates\, Feedback and Ask Edward\, Vanda and Simone Anything!
DESCRIPTION:The last Thursday of every month will be a webinar with Edward and Vanda or Simone\, the topic is CBI updates\, Feedback\, Question & Answer\, “Ask us Anything!”. \nWebinar Dates in 2026: Last Thursday of every month — February 26\, March 26\, April 30\, May 28\, June 25\, July 30\, August 27\, September 24\, October 29\, November 26. \nWebinar Time: \n\nEST – 1pm – 2pm Webinar\nCEST – 7pm – 8pm Webinar\n\nThis webinar will be presented in English over Zoom. \nLog-in to access the “Watch” button below! \n  \n 
URL:https://communitybuilding.com/event/fit-monthly-webinar/2030-06-27/
LOCATION:Online
CATEGORIES:English,Facilitated by Edward Groody,Language,Virtual,Webinar
ATTACH;FMTTYPE=image/jpeg:https://communitybuilding.com/wp-content/uploads/2024/07/webinar-cover-scaled-e1720283649433.jpg
END:VEVENT
BEGIN:VEVENT
DTSTART;TZID=America/New_York:20300725T130000
DTEND;TZID=America/New_York:20300725T143000
DTSTAMP:20260424T213206
CREATED:20260220T114432Z
LAST-MODIFIED:20260220T114752Z
UID:10000510-1911214800-1911220200@communitybuilding.com
SUMMARY:FIT Webinar: CBI Updates\, Feedback and Ask Edward\, Vanda and Simone Anything!
DESCRIPTION:The last Thursday of every month will be a webinar with Edward and Vanda or Simone\, the topic is CBI updates\, Feedback\, Question & Answer\, “Ask us Anything!”. \nWebinar Dates in 2026: Last Thursday of every month — February 26\, March 26\, April 30\, May 28\, June 25\, July 30\, August 27\, September 24\, October 29\, November 26. \nWebinar Time: \n\nEST – 1pm – 2pm Webinar\nCEST – 7pm – 8pm Webinar\n\nThis webinar will be presented in English over Zoom. \nLog-in to access the “Watch” button below! \n  \n 
URL:https://communitybuilding.com/event/fit-monthly-webinar/2030-07-25/
LOCATION:Online
CATEGORIES:English,Facilitated by Edward Groody,Language,Virtual,Webinar
ATTACH;FMTTYPE=image/jpeg:https://communitybuilding.com/wp-content/uploads/2024/07/webinar-cover-scaled-e1720283649433.jpg
END:VEVENT
BEGIN:VEVENT
DTSTART;TZID=America/New_York:20300829T130000
DTEND;TZID=America/New_York:20300829T143000
DTSTAMP:20260424T213206
CREATED:20260220T114432Z
LAST-MODIFIED:20260220T114752Z
UID:10000511-1914238800-1914244200@communitybuilding.com
SUMMARY:FIT Webinar: CBI Updates\, Feedback and Ask Edward\, Vanda and Simone Anything!
DESCRIPTION:The last Thursday of every month will be a webinar with Edward and Vanda or Simone\, the topic is CBI updates\, Feedback\, Question & Answer\, “Ask us Anything!”. \nWebinar Dates in 2026: Last Thursday of every month — February 26\, March 26\, April 30\, May 28\, June 25\, July 30\, August 27\, September 24\, October 29\, November 26. \nWebinar Time: \n\nEST – 1pm – 2pm Webinar\nCEST – 7pm – 8pm Webinar\n\nThis webinar will be presented in English over Zoom. \nLog-in to access the “Watch” button below! \n  \n 
URL:https://communitybuilding.com/event/fit-monthly-webinar/2030-08-29/
LOCATION:Online
CATEGORIES:English,Facilitated by Edward Groody,Language,Virtual,Webinar
ATTACH;FMTTYPE=image/jpeg:https://communitybuilding.com/wp-content/uploads/2024/07/webinar-cover-scaled-e1720283649433.jpg
END:VEVENT
BEGIN:VEVENT
DTSTART;TZID=America/New_York:20300926T130000
DTEND;TZID=America/New_York:20300926T143000
DTSTAMP:20260424T213206
CREATED:20260220T114432Z
LAST-MODIFIED:20260220T114752Z
UID:10000512-1916658000-1916663400@communitybuilding.com
SUMMARY:FIT Webinar: CBI Updates\, Feedback and Ask Edward\, Vanda and Simone Anything!
DESCRIPTION:The last Thursday of every month will be a webinar with Edward and Vanda or Simone\, the topic is CBI updates\, Feedback\, Question & Answer\, “Ask us Anything!”. \nWebinar Dates in 2026: Last Thursday of every month — February 26\, March 26\, April 30\, May 28\, June 25\, July 30\, August 27\, September 24\, October 29\, November 26. \nWebinar Time: \n\nEST – 1pm – 2pm Webinar\nCEST – 7pm – 8pm Webinar\n\nThis webinar will be presented in English over Zoom. \nLog-in to access the “Watch” button below! \n  \n 
URL:https://communitybuilding.com/event/fit-monthly-webinar/2030-09-26/
LOCATION:Online
CATEGORIES:English,Facilitated by Edward Groody,Language,Virtual,Webinar
ATTACH;FMTTYPE=image/jpeg:https://communitybuilding.com/wp-content/uploads/2024/07/webinar-cover-scaled-e1720283649433.jpg
END:VEVENT
BEGIN:VEVENT
DTSTART;TZID=America/New_York:20301031T130000
DTEND;TZID=America/New_York:20301031T143000
DTSTAMP:20260424T213206
CREATED:20260220T114432Z
LAST-MODIFIED:20260220T114752Z
UID:10000513-1919682000-1919687400@communitybuilding.com
SUMMARY:FIT Webinar: CBI Updates\, Feedback and Ask Edward\, Vanda and Simone Anything!
DESCRIPTION:The last Thursday of every month will be a webinar with Edward and Vanda or Simone\, the topic is CBI updates\, Feedback\, Question & Answer\, “Ask us Anything!”. \nWebinar Dates in 2026: Last Thursday of every month — February 26\, March 26\, April 30\, May 28\, June 25\, July 30\, August 27\, September 24\, October 29\, November 26. \nWebinar Time: \n\nEST – 1pm – 2pm Webinar\nCEST – 7pm – 8pm Webinar\n\nThis webinar will be presented in English over Zoom. \nLog-in to access the “Watch” button below! \n  \n 
URL:https://communitybuilding.com/event/fit-monthly-webinar/2030-10-31/
LOCATION:Online
CATEGORIES:English,Facilitated by Edward Groody,Language,Virtual,Webinar
ATTACH;FMTTYPE=image/jpeg:https://communitybuilding.com/wp-content/uploads/2024/07/webinar-cover-scaled-e1720283649433.jpg
END:VEVENT
BEGIN:VEVENT
DTSTART;TZID=America/New_York:20301128T130000
DTEND;TZID=America/New_York:20301128T143000
DTSTAMP:20260424T213206
CREATED:20260220T114432Z
LAST-MODIFIED:20260220T114752Z
UID:10000514-1922101200-1922106600@communitybuilding.com
SUMMARY:FIT Webinar: CBI Updates\, Feedback and Ask Edward\, Vanda and Simone Anything!
DESCRIPTION:The last Thursday of every month will be a webinar with Edward and Vanda or Simone\, the topic is CBI updates\, Feedback\, Question & Answer\, “Ask us Anything!”. \nWebinar Dates in 2026: Last Thursday of every month — February 26\, March 26\, April 30\, May 28\, June 25\, July 30\, August 27\, September 24\, October 29\, November 26. \nWebinar Time: \n\nEST – 1pm – 2pm Webinar\nCEST – 7pm – 8pm Webinar\n\nThis webinar will be presented in English over Zoom. \nLog-in to access the “Watch” button below! \n  \n 
URL:https://communitybuilding.com/event/fit-monthly-webinar/2030-11-28/
LOCATION:Online
CATEGORIES:English,Facilitated by Edward Groody,Language,Virtual,Webinar
ATTACH;FMTTYPE=image/jpeg:https://communitybuilding.com/wp-content/uploads/2024/07/webinar-cover-scaled-e1720283649433.jpg
END:VEVENT
BEGIN:VEVENT
DTSTART;TZID=America/New_York:20301226T130000
DTEND;TZID=America/New_York:20301226T143000
DTSTAMP:20260424T213206
CREATED:20260220T114432Z
LAST-MODIFIED:20260220T114752Z
UID:10000515-1924520400-1924525800@communitybuilding.com
SUMMARY:FIT Webinar: CBI Updates\, Feedback and Ask Edward\, Vanda and Simone Anything!
DESCRIPTION:The last Thursday of every month will be a webinar with Edward and Vanda or Simone\, the topic is CBI updates\, Feedback\, Question & Answer\, “Ask us Anything!”. \nWebinar Dates in 2026: Last Thursday of every month — February 26\, March 26\, April 30\, May 28\, June 25\, July 30\, August 27\, September 24\, October 29\, November 26. \nWebinar Time: \n\nEST – 1pm – 2pm Webinar\nCEST – 7pm – 8pm Webinar\n\nThis webinar will be presented in English over Zoom. \nLog-in to access the “Watch” button below! \n  \n 
URL:https://communitybuilding.com/event/fit-monthly-webinar/2030-12-26/
LOCATION:Online
CATEGORIES:English,Facilitated by Edward Groody,Language,Virtual,Webinar
ATTACH;FMTTYPE=image/jpeg:https://communitybuilding.com/wp-content/uploads/2024/07/webinar-cover-scaled-e1720283649433.jpg
END:VEVENT
BEGIN:VEVENT
DTSTART;TZID=America/New_York:20310130T130000
DTEND;TZID=America/New_York:20310130T143000
DTSTAMP:20260424T213206
CREATED:20260220T114432Z
LAST-MODIFIED:20260220T114752Z
UID:10000516-1927544400-1927549800@communitybuilding.com
SUMMARY:FIT Webinar: CBI Updates\, Feedback and Ask Edward\, Vanda and Simone Anything!
DESCRIPTION:The last Thursday of every month will be a webinar with Edward and Vanda or Simone\, the topic is CBI updates\, Feedback\, Question & Answer\, “Ask us Anything!”. \nWebinar Dates in 2026: Last Thursday of every month — February 26\, March 26\, April 30\, May 28\, June 25\, July 30\, August 27\, September 24\, October 29\, November 26. \nWebinar Time: \n\nEST – 1pm – 2pm Webinar\nCEST – 7pm – 8pm Webinar\n\nThis webinar will be presented in English over Zoom. \nLog-in to access the “Watch” button below! \n  \n 
URL:https://communitybuilding.com/event/fit-monthly-webinar/2031-01-30/
LOCATION:Online
CATEGORIES:English,Facilitated by Edward Groody,Language,Virtual,Webinar
ATTACH;FMTTYPE=image/jpeg:https://communitybuilding.com/wp-content/uploads/2024/07/webinar-cover-scaled-e1720283649433.jpg
END:VEVENT
BEGIN:VEVENT
DTSTART;TZID=America/New_York:20310227T130000
DTEND;TZID=America/New_York:20310227T143000
DTSTAMP:20260424T213206
CREATED:20260220T114432Z
LAST-MODIFIED:20260220T114752Z
UID:10000519-1929963600-1929969000@communitybuilding.com
SUMMARY:FIT Webinar: CBI Updates\, Feedback and Ask Edward\, Vanda and Simone Anything!
DESCRIPTION:The last Thursday of every month will be a webinar with Edward and Vanda or Simone\, the topic is CBI updates\, Feedback\, Question & Answer\, “Ask us Anything!”. \nWebinar Dates in 2026: Last Thursday of every month — February 26\, March 26\, April 30\, May 28\, June 25\, July 30\, August 27\, September 24\, October 29\, November 26. \nWebinar Time: \n\nEST – 1pm – 2pm Webinar\nCEST – 7pm – 8pm Webinar\n\nThis webinar will be presented in English over Zoom. \nLog-in to access the “Watch” button below! \n  \n 
URL:https://communitybuilding.com/event/fit-monthly-webinar/2031-02-27/
LOCATION:Online
CATEGORIES:English,Facilitated by Edward Groody,Language,Virtual,Webinar
ATTACH;FMTTYPE=image/jpeg:https://communitybuilding.com/wp-content/uploads/2024/07/webinar-cover-scaled-e1720283649433.jpg
END:VEVENT
END:VCALENDAR