BEGIN:VCALENDAR
VERSION:2.0
PRODID:-//Community Building International - ECPv6.15.20//NONSGML v1.0//EN
CALSCALE:GREGORIAN
METHOD:PUBLISH
X-WR-CALNAME:Community Building International
X-ORIGINAL-URL:https://communitybuilding.com
X-WR-CALDESC:Events for Community Building International
REFRESH-INTERVAL;VALUE=DURATION:PT1H
X-Robots-Tag:noindex
X-PUBLISHED-TTL:PT1H
BEGIN:VTIMEZONE
TZID:Europe/Zurich
BEGIN:DAYLIGHT
TZOFFSETFROM:+0100
TZOFFSETTO:+0200
TZNAME:CEST
DTSTART:20230326T010000
END:DAYLIGHT
BEGIN:STANDARD
TZOFFSETFROM:+0200
TZOFFSETTO:+0100
TZNAME:CET
DTSTART:20231029T010000
END:STANDARD
BEGIN:DAYLIGHT
TZOFFSETFROM:+0100
TZOFFSETTO:+0200
TZNAME:CEST
DTSTART:20240331T010000
END:DAYLIGHT
BEGIN:STANDARD
TZOFFSETFROM:+0200
TZOFFSETTO:+0100
TZNAME:CET
DTSTART:20241027T010000
END:STANDARD
BEGIN:DAYLIGHT
TZOFFSETFROM:+0100
TZOFFSETTO:+0200
TZNAME:CEST
DTSTART:20250330T010000
END:DAYLIGHT
BEGIN:STANDARD
TZOFFSETFROM:+0200
TZOFFSETTO:+0100
TZNAME:CET
DTSTART:20251026T010000
END:STANDARD
END:VTIMEZONE
BEGIN:VEVENT
DTSTART;TZID=Europe/Zurich:20240310T110000
DTEND;TZID=Europe/Zurich:20240310T160000
DTSTAMP:20260424T212830
CREATED:20231220T221757Z
LAST-MODIFIED:20231220T222728Z
UID:10000104-1710068400-1710086400@communitybuilding.com
SUMMARY:Ongoing CBI Group in Basel\, Switzerland
DESCRIPTION:This is an ongoing Community Building International group meeting in Basel\, Switzerland. \nThe first two dates for 2024 are January 28 and March 10. More dates will be announced soon! \nOrganizers: Dorit Stark\, doritstark@sunrise.ch (with Helena Zeier and Urs Imgruet) \nDuration: 11-16h \nCost:  EUR 30 – EUR 50 \nFor more information\, please contact the event organizers. If you plan to attend\, please fill out the Required Participation Waivers in the RSVP below.
URL:https://communitybuilding.com/event/ongoing-cbi-group-in-basel-switzerland-2/
LOCATION:Venue in Basel\, Switzerland
CATEGORIES:German,In Person,Ongoing Circle,Public
ATTACH;FMTTYPE=image/jpeg:https://communitybuilding.com/wp-content/uploads/2023/12/basel.jpeg
ORGANIZER;CN="Dorit Stark":MAILTO:doritstark@sunrise.ch
GEO:47.5595986;7.5885761
END:VEVENT
BEGIN:VEVENT
DTSTART;TZID=Europe/Zurich:20240128T110000
DTEND;TZID=Europe/Zurich:20240128T160000
DTSTAMP:20260424T212830
CREATED:20231220T221357Z
LAST-MODIFIED:20241108T163206Z
UID:10000103-1706439600-1706457600@communitybuilding.com
SUMMARY:Ongoing CBI Group in Basel\, Switzerland
DESCRIPTION:This is an ongoing Community Building International group meeting in Basel\, Switzerland. \nThe first two dates for 2024 are January 28 and March 10. More dates will be announced soon! \nOrganizers: Dorit Stark\, doritstark@sunrise.ch (with Helena Zeier and Urs Imgruet) \nDuration: 11-16h \nCost:  EUR 30 – EUR 50 \nFor more information\, please contact the event organizers. If you plan to attend\, please fill out the Required Participation Waivers in the RSVP below.
URL:https://communitybuilding.com/event/ongoing-cbi-switzerland/
LOCATION:Venue in Basel\, Switzerland
CATEGORIES:German,In Person,Ongoing Circle,Public
ATTACH;FMTTYPE=image/jpeg:https://communitybuilding.com/wp-content/uploads/2023/12/basel.jpeg
ORGANIZER;CN="Dorit Stark":MAILTO:doritstark@sunrise.ch
GEO:47.5595986;7.5885761
END:VEVENT
END:VCALENDAR