BEGIN:VCALENDAR
VERSION:2.0
PRODID:-//Community Building International - ECPv6.15.20//NONSGML v1.0//EN
CALSCALE:GREGORIAN
METHOD:PUBLISH
X-WR-CALNAME:Community Building International
X-ORIGINAL-URL:https://communitybuilding.com
X-WR-CALDESC:Events for Community Building International
REFRESH-INTERVAL;VALUE=DURATION:PT1H
X-Robots-Tag:noindex
X-PUBLISHED-TTL:PT1H
BEGIN:VTIMEZONE
TZID:America/New_York
BEGIN:DAYLIGHT
TZOFFSETFROM:-0500
TZOFFSETTO:-0400
TZNAME:EDT
DTSTART:20240310T070000
END:DAYLIGHT
BEGIN:STANDARD
TZOFFSETFROM:-0400
TZOFFSETTO:-0500
TZNAME:EST
DTSTART:20241103T060000
END:STANDARD
BEGIN:DAYLIGHT
TZOFFSETFROM:-0500
TZOFFSETTO:-0400
TZNAME:EDT
DTSTART:20250309T070000
END:DAYLIGHT
BEGIN:STANDARD
TZOFFSETFROM:-0400
TZOFFSETTO:-0500
TZNAME:EST
DTSTART:20251102T060000
END:STANDARD
BEGIN:DAYLIGHT
TZOFFSETFROM:-0500
TZOFFSETTO:-0400
TZNAME:EDT
DTSTART:20260308T070000
END:DAYLIGHT
BEGIN:STANDARD
TZOFFSETFROM:-0400
TZOFFSETTO:-0500
TZNAME:EST
DTSTART:20261101T060000
END:STANDARD
END:VTIMEZONE
BEGIN:VTIMEZONE
TZID:Europe/Warsaw
BEGIN:DAYLIGHT
TZOFFSETFROM:+0100
TZOFFSETTO:+0200
TZNAME:CEST
DTSTART:20230326T010000
END:DAYLIGHT
BEGIN:STANDARD
TZOFFSETFROM:+0200
TZOFFSETTO:+0100
TZNAME:CET
DTSTART:20231029T010000
END:STANDARD
BEGIN:DAYLIGHT
TZOFFSETFROM:+0100
TZOFFSETTO:+0200
TZNAME:CEST
DTSTART:20240331T010000
END:DAYLIGHT
BEGIN:STANDARD
TZOFFSETFROM:+0200
TZOFFSETTO:+0100
TZNAME:CET
DTSTART:20241027T010000
END:STANDARD
BEGIN:DAYLIGHT
TZOFFSETFROM:+0100
TZOFFSETTO:+0200
TZNAME:CEST
DTSTART:20250330T010000
END:DAYLIGHT
BEGIN:STANDARD
TZOFFSETFROM:+0200
TZOFFSETTO:+0100
TZNAME:CET
DTSTART:20251026T010000
END:STANDARD
END:VTIMEZONE
BEGIN:VTIMEZONE
TZID:Europe/Zurich
BEGIN:DAYLIGHT
TZOFFSETFROM:+0100
TZOFFSETTO:+0200
TZNAME:CEST
DTSTART:20230326T010000
END:DAYLIGHT
BEGIN:STANDARD
TZOFFSETFROM:+0200
TZOFFSETTO:+0100
TZNAME:CET
DTSTART:20231029T010000
END:STANDARD
BEGIN:DAYLIGHT
TZOFFSETFROM:+0100
TZOFFSETTO:+0200
TZNAME:CEST
DTSTART:20240331T010000
END:DAYLIGHT
BEGIN:STANDARD
TZOFFSETFROM:+0200
TZOFFSETTO:+0100
TZNAME:CET
DTSTART:20241027T010000
END:STANDARD
BEGIN:DAYLIGHT
TZOFFSETFROM:+0100
TZOFFSETTO:+0200
TZNAME:CEST
DTSTART:20250330T010000
END:DAYLIGHT
BEGIN:STANDARD
TZOFFSETFROM:+0200
TZOFFSETTO:+0100
TZNAME:CET
DTSTART:20251026T010000
END:STANDARD
END:VTIMEZONE
BEGIN:VEVENT
DTSTART;TZID=America/New_York:20250814T080000
DTEND;TZID=America/New_York:20250817T150000
DTSTAMP:20260424T145027
CREATED:20250610T191343Z
LAST-MODIFIED:20250610T191410Z
UID:10000417-1755158400-1755442800@communitybuilding.com
SUMMARY:CBST SZTUKA POŁĄCZENIA: Trening Umiejętności Budowania Wspólnoty
DESCRIPTION: W jaki sposób stworzyć atmosferę zaufania i szacunku\, abyśmy doświadczali głębi połączenia z innymi\, współpracy i autentycznego bycia? Jak nawigować w świecie pełnym chaosu\, niezrozumienia i braku uważności na siebie?\n Proces Budowania Wspólnoty według metody dr. M. Scotta Pecka oferuje praktyczne wskazówki\, a także żywe doświadczenie osiągania w grupie stanu Wspólnoty\, czyli stanu wyjątkowego bezpieczeństwa i głębokiego szacunku.\n Ten 4-dniowy trening to doświadczenie grupowe dla osób\, które chcą poznać narzędzia\, by budować kulturę współpracy\, wsparcia i autentycznej komunikacji w swojej społeczności\, wspólnocie\, organizacji czy w relacjach. Doświadczenie wielu osób pokazuje\, że po warsztacie budowania wspólnoty\, relacje nie mogą pozostać już takie same\, bo doświadczenie innej kultury bycia i komunikacji potrafi zmienić bezpowrotnie.________________CEL TRENINGUCelem tego treningu jest zwiększenie samoświadomości i wiedzy na temat kluczowych umiejętności autentycznej komunikacji.\n Trening przeznaczony jest szczególnie dla osób tworzących społeczności\, wspólnoty i organizacje\, pracujących z grupami i w zawodach pomocowych oraz osób na ścieżce rozwoju\, pragnących: poznać klucze do autentycznej komunikacji\, połączenia i głębszych relacji rozpuszczać osobiste przeszkody w autentycznej komunikacji rozwijać zdolność słuchania i wyrażania się w pełniejszy sposób nawigować w sytuacjach problemowych i konfliktowych nauczyć się przechodzić z gracją ze stanu chaosu i konfliktu do komunikacji i porozumienia pozbyć się ukrytych agend i “pseudo-wspólnotowości” w relacjach i grupach porzucić ocenianie innych oraz rozwijać akceptację i budować mosty pomiędzy osobistymi różnicami w grupie doświadczyć innej kultury bycia i komunikacji\, która daje nadzieję na porozumienie między członkami grupy/rodziny/relacji zwiększyć samoświadomość o sobie w grupie doświadczyć poczucia\, że bycie w grupie może być bezpieczne i leczące stare rany odrzucenia zrozumieć dynamiki relacyjne i grupowe.\n Trening składa się z treści merytorycznych\, praktycznych ćwiczeń w parach i grupach oraz procesu grupowego Budowania Wspólnoty według dr. M. Scotta Pecka\, wspierającego przejście od PSEUDO-WSPÓLNOTY (gdzie wszyscy są mili\, ale relacje raczej płytkie) do głębokiej WSPÓLNOTY (gdzie mniej ludzi lubisz\, ale więcej kochasz).________________ O METODZIEProces Budowania Wspólnoty został opracowany w drugiej połowie XX przez psychiatrę i autora dr M. Scotta Pecka\, w odpowiedzi na polaryzację\, samotność i izolację we współczesnych społecznościach. Utratę poczucia autentycznej wspólnoty widział jako podstawę problemów i konfliktów społecznych. Peck odkrył wskazówki w komunikacji\, które wspierają proces przywracania poczucia wspólnoty oraz budują zaufanie i bezpieczeństwo w grupie.\nOsoby uczestniczące w warsztatach budowania wspólnoty mają możliwość przećwiczenia tych wskazówek oraz doświadczenia poczucia wspólnoty. Od końca XX wieku metoda ta jest dalej rozwijana i dostosowywana do wyzwań naszych czasów i różnych grup odbiorców. Proces ten stosowany jest w organizacjach i społecznościach intencjonalnych\, w pracy resocjalizacyjnej np. z byłymi więźniami\, trudną młodzieżą\, w pracy ze społecznościami wykluczonymi i w konflikcie. Więcej na stronie Community Building International: https://communitybuilding.com/________________ FACYLITACJAEmilia Ślimko i zespół facylitatorów Community Building International\nEmilia ŚlimkoJest certyfikowaną facylitatorką Procesu Budowania Wspólnoty (przez Community Building International). Współtworzy projekt OSADA.EARTH\, wspólnotę intencjonalną. Emilia łączy w swoje pracy rozwój osobisty i ekologię. Pracuje z grupami jako trenerka oraz indywidualnie z osobami. Jest absolwentką m.in. psychologii na Uniwersytecie Jagiellońskim\, kursu nauczycielskiego Mindfulness (MBLC) i Kursu Compassion (Mindfulness Association UK)\, Holistycznej Szkoły Trenerów. Prowadzi warsztaty w Szkole Integralnej Ekopsychologii. Pracuje pod superwizją Edwarda Groody – ucznia M. Scotta Pecka i założyciela Community Building International.\nKlara HiaroJest na ścieżce facylitacji procesu Community Building wg M. Scotta Pecka. Doświadczyła\, jak autentyczna wspólnota może wspierać procesy transformacji\, co zainspirowało ją do głębszego poznawania relacji ze sobą i światem. Przez lata pracowała jako programistka i liderka zespołów IT\, jednak z czasem skupiła się na pracy z ludźmi. Ukończyła m. in. szkołę jogi terapeutycznej według Bihar School of Yoga w Indiach. W swojej praktyce pomaga innym rozwijać uważność i świadomość ciała. Wierzy\, że sztuka budowania wspólnoty – zarówno ze sobą\, jak i z innymi – jest kluczem do bardziej harmonijnego świata.________________ HARMONOGRAMPrzyjazd – 13 sierpnia w ciągu dnia\, wieczorem kolacjaRozpoczęcie warsztatu – 14 sierpnia o godz. 9.30Zakończenie warsztatu – 17 sierpnia o godz. 15.00\nRozkład dnia: 13 sierpnia – Kolacja o godz.20.00 14 sierpnia – 16 sierpnia:godz. 8.30 Śniadaniegodz. 9.30 – 18.30 Sesje warsztatowe z krótkimi przerwami i dłuższą przerwą obiadowągodz. 18.30 Kolacjaod godz. 19.30 Czas wolny/opcjonalne wspólne aktywności 17 sierpniagodz. 8.00 Śniadaniegodz. 9.00 – 15.00 Sesje warsztatowe z krótkimi przerwami i dłuższą przerwą obiadową________________OPŁATA Kwota standardowa – 1200 zł Kwota dla osób w trudniejszej sytuacji finansowej – 1000 zł\nOpłata za trening pokrywa wynagrodzenie dla facylitatorów\, koszty organizacyjne\, materiały treningowe\, pełne wyżywienie oraz nocleg w Osadzie (od środy do niedzieli). Spać będziemy w wygodnych kilkuosobowych namiotach z łóżkami. Można również spać we własnym namiocie. Będziemy jeść wegetariańskie/wegańskie posiłki (3 posiłki dziennie). Jeśli wysokość kwoty jest dla Ciebie problemem\, to skontaktuj się z Emilią.________________ MIEJSCETrening odbędzie się w OSADA.EARTH\, w samym sercu Drawskiego Parku Krajobrazowego\,w Prosinku 28. Tworzymy tu wspólnotę intencjonalną i budujemy regeneratywny habitat. Stosujemy wskazówki Budowania Wspólnoty oraz zgłębiamy sposoby na harmonijną współpracę i działanie dla czegoś większego niż my sami. Więcej o projekcie OSADA.EARTH: https://pl.osada.earth/ Korzystając z lata i intensywności przyrody spędzimy ten czas w prostocie zanurzenia w tym miejscu. Ułatwi nam to sala warsztatowa otwarta na las i pagórki. Używamy kompostowych toalet i outdoorowych pryszniców (z gorącą wodą).________________WAŻNEJeśli jesteś w procesie psychoterapii to skonsultuj swój udział z terapeut(k)ą. Trening może być intensywny emocjonalnie. Trening nie jest terapią i jej nie zastępuje. Zapisując się na niego decydujesz\, że pozostaniesz w grupie aż do końca procesu ostatniego dnia – to ważne dla Ciebie i dla grupy.________________ZAPISYZapisz się poprzez formularz: https://forms.gle/2BCHesRv496zKerS8Następnie skontaktujemy się z Tobą!________________KONTAKTEmilia\, emiliaslimko@gmail.com
URL:https://communitybuilding.com/event/cbst-sztuka-polaczenia-trening-umiejetnosci-budowania-wspolnoty/
LOCATION:Osada Earth\, Prosinko 28\, Prosinko\, 78-552\, Poland
CATEGORIES:CBST,Polish,Public,Workshop
ATTACH;FMTTYPE=image/jpeg:https://communitybuilding.com/wp-content/uploads/2025/06/2020-08-30-13-55-52.jpg
ORGANIZER;CN="Emilia %C5%9Alimko":MAILTO:poland@communitybuilding.com
GEO:53.6452539;16.2353993
X-APPLE-STRUCTURED-LOCATION;VALUE=URI;X-ADDRESS=Osada Earth Prosinko 28 Prosinko 78-552 Poland;X-APPLE-RADIUS=500;X-TITLE=Prosinko 28:geo:16.2353993,53.6452539
END:VEVENT
BEGIN:VEVENT
DTSTART;VALUE=DATE:20240318
DTEND;VALUE=DATE:20240322
DTSTAMP:20260424T145027
CREATED:20231221T150035Z
LAST-MODIFIED:20240116T123759Z
UID:10000108-1710720000-1711065599@communitybuilding.com
SUMMARY:Facilitator Training (Modules 2 & 3)
DESCRIPTION:Modules 2 & 3 are part of CBI’s Facilitator Training program. To learn more about facilitator training\, certification and licensing\, click here. \nRegistration:  \n\nTo register for this event\, please contact the organizers: Marta Kamila (ms.martyna@wp.pl)\, Emilia Ślimko emiliaslimko@gmail.com\, or Leszek Frankiewicz (leszekfrankiewicz@akademia-dobregozycia.pl)\nAlso\, please fill out the Required Participation Waivers by clicking the RSVP below. Thank you!\n\n 
URL:https://communitybuilding.com/event/facilitator-training-modules-2-3/
LOCATION:Venue in Poznan\, Poznan\, Poland
CATEGORIES:English,Facilitated by Edward Groody,Facilitator Training,In Person,Language,Polish,Public
ATTACH;FMTTYPE=image/jpeg:https://communitybuilding.com/wp-content/uploads/2023/11/business-02-2-scaled.jpg
GEO:52.406374;16.9251681
END:VEVENT
BEGIN:VEVENT
DTSTART;VALUE=DATE:20240125
DTEND;VALUE=DATE:20240129
DTSTAMP:20260424T145027
CREATED:20240112T142843Z
LAST-MODIFIED:20241108T163128Z
UID:10000120-1706140800-1706486399@communitybuilding.com
SUMMARY:Community Building Workshop (CBW) in Poland (PUBLIC)
DESCRIPTION:For 4 days we will build a sense of community – experiencing a unique trust and respect in a group. We will use the group process of community building according to M. Scott Peck to experience the transition from PSEUDO-Community (where everyone is nice\, but relationships are rather shallow) to truly deep COMMUNITY (where you like fewer people\, but love more). \nThis workshop is an opportunity to learn more about yourself and group dynamics. We especially recommend it for people who are forming communities\, societies and organizations\, working with groups\, and people on the development path who want to: \n\nlearn the keys to authentic communication\ndissolve personal obstacles to authentic communication\ndevelop the ability to listen and express themselves more fully\nnavigate conflict situations in communities and relationships\nreduce judgment of others and develop acceptance and build bridges across personal differences in groups\nexperience connection with people very different from themselves\nimprove skills for being in relationships\n\nThis is a PUBLIC\, in person workshop in Gdynia\, Poland in Polish. \nStart: 25.01\,14:00; End: 28.01\,16:00 (4 days) \nCost: 9.850 pln (If money is a problem for you there is a discount possible\, depending on the amount of participants. Please contact the organizers.) \nRegistration:  For more information and to register for this workshop\, please contact the organizers: Joanna Mikolajczyk and Lukasz Kosiedowski\, email: cbw.trojmiasto@gmail.com. Details received after registration\, payment through Osada Mozliwosci Association. \nNote: Please fill out the Required Participation Waivers below in the RSVP\, then contact the organizer to register. \n 
URL:https://communitybuilding.com/event/cbw-poland-jan2025/
LOCATION:Venue in Gdynia\, Gdynia\, Poland
CATEGORIES:CBW,In Person,Polish,Public
ATTACH;FMTTYPE=image/png:https://communitybuilding.com/wp-content/uploads/2024/01/Gdynia-Poland.png
ORGANIZER;CN="Emilia %C5%9Alimko":MAILTO:poland@communitybuilding.com
GEO:54.5188898;18.5305409
END:VEVENT
END:VCALENDAR