BEGIN:VCALENDAR
VERSION:2.0
PRODID:-//Community Building International - ECPv6.15.20//NONSGML v1.0//EN
CALSCALE:GREGORIAN
METHOD:PUBLISH
X-WR-CALNAME:Community Building International
X-ORIGINAL-URL:https://communitybuilding.com
X-WR-CALDESC:Events for Community Building International
REFRESH-INTERVAL;VALUE=DURATION:PT1H
X-Robots-Tag:noindex
X-PUBLISHED-TTL:PT1H
BEGIN:VTIMEZONE
TZID:Europe/Zurich
BEGIN:DAYLIGHT
TZOFFSETFROM:+0100
TZOFFSETTO:+0200
TZNAME:CEST
DTSTART:20230326T010000
END:DAYLIGHT
BEGIN:STANDARD
TZOFFSETFROM:+0200
TZOFFSETTO:+0100
TZNAME:CET
DTSTART:20231029T010000
END:STANDARD
BEGIN:DAYLIGHT
TZOFFSETFROM:+0100
TZOFFSETTO:+0200
TZNAME:CEST
DTSTART:20240331T010000
END:DAYLIGHT
BEGIN:STANDARD
TZOFFSETFROM:+0200
TZOFFSETTO:+0100
TZNAME:CET
DTSTART:20241027T010000
END:STANDARD
BEGIN:DAYLIGHT
TZOFFSETFROM:+0100
TZOFFSETTO:+0200
TZNAME:CEST
DTSTART:20250330T010000
END:DAYLIGHT
BEGIN:STANDARD
TZOFFSETFROM:+0200
TZOFFSETTO:+0100
TZNAME:CET
DTSTART:20251026T010000
END:STANDARD
END:VTIMEZONE
BEGIN:VTIMEZONE
TZID:Europe/Bratislava
BEGIN:DAYLIGHT
TZOFFSETFROM:+0100
TZOFFSETTO:+0200
TZNAME:CEST
DTSTART:20230326T010000
END:DAYLIGHT
BEGIN:STANDARD
TZOFFSETFROM:+0200
TZOFFSETTO:+0100
TZNAME:CET
DTSTART:20231029T010000
END:STANDARD
BEGIN:DAYLIGHT
TZOFFSETFROM:+0100
TZOFFSETTO:+0200
TZNAME:CEST
DTSTART:20240331T010000
END:DAYLIGHT
BEGIN:STANDARD
TZOFFSETFROM:+0200
TZOFFSETTO:+0100
TZNAME:CET
DTSTART:20241027T010000
END:STANDARD
BEGIN:DAYLIGHT
TZOFFSETFROM:+0100
TZOFFSETTO:+0200
TZNAME:CEST
DTSTART:20250330T010000
END:DAYLIGHT
BEGIN:STANDARD
TZOFFSETFROM:+0200
TZOFFSETTO:+0100
TZNAME:CET
DTSTART:20251026T010000
END:STANDARD
END:VTIMEZONE
BEGIN:VEVENT
DTSTART;TZID=Europe/Zurich:20241122T130000
DTEND;TZID=Europe/Zurich:20241124T160000
DTSTAMP:20260424T231342
CREATED:20231218T233620Z
LAST-MODIFIED:20240930T171953Z
UID:10000098-1732280400-1732464000@communitybuilding.com
SUMMARY:Community Building Workshop (CBW) in Switzerland (PUBLIC)
DESCRIPTION:The Community Building Workshop (CBW) is the original workshop format developed by Dr. Peck with a focus on experientially learning and experiencing Community Building guidelines and principles for personal\, spiritual and professional growth. \nThe CBW involves a group process aimed at deeper\, more authentic communication. Using a set of guidelines and principles rather than an agenda or particular procedure\, participants are gently guided by specially trained facilitators who take the group through a process that shows how to look beyond the cultural\, political and religious differences that prevent us from embracing our common humanity. During a CBW\, the ultimate goal of the group is to experience a deeper level of being in community. \nThis is a PUBLIC workshop. Scholarships are available based on financial need. Please contact the organizer for more information. https://www.bewusstwie.org/alle-termine \nOrganizer: Andreas Reese switzerland@communitybuilding.com \nDuration:  13h-16h \nRegistration:  For more information and to register for this workshop\, please contact the organizer:  Kathrin Jehle (switzerland@communitybuilding.com or andreas@bewusstwie.org). Note: Please fill out the Required Participation Waivers below in the RSVP. \nFacilitators:  Edward Groody\, Andreas Reese\, others anticipated.
URL:https://communitybuilding.com/event/community-building-workshop-cbw-in-switzerland-public-2/
LOCATION:Venue in Steckborn\, Schloss Glarisegg\, Steckborn\, Switzerland
CATEGORIES:CBW,English,Facilitated by Edward Groody,German,In Person,Public
ATTACH;FMTTYPE=image/jpeg:https://communitybuilding.com/wp-content/uploads/2023/12/schloss_glarisegg.jpeg
ORGANIZER;CN="Andreas Reese":MAILTO:switzerland@communitybuilding.com
GEO:47.6549028;8.9566413
X-APPLE-STRUCTURED-LOCATION;VALUE=URI;X-ADDRESS=Venue in Steckborn Schloss Glarisegg Steckborn Switzerland;X-APPLE-RADIUS=500;X-TITLE=Schloss Glarisegg:geo:8.9566413,47.6549028
END:VEVENT
BEGIN:VEVENT
DTSTART;TZID=Europe/Bratislava:20241121T100000
DTEND;TZID=Europe/Bratislava:20241122T120000
DTSTAMP:20260424T231342
CREATED:20240116T131605Z
LAST-MODIFIED:20240930T171400Z
UID:10000122-1732183200-1732276800@communitybuilding.com
SUMMARY:Art of Connection: CBST in Steckborn (PUBLIC)
DESCRIPTION:The Art of Connection: Community Building Skills Training (CBST) provides both structured exercises with a focus on learning specific skills to build connection and improve communication in everyday life. The CBST is the format most often used for practical applications by business\, human service\, criminal justice\, and other organizations seeking to improve outcomes. The CBST combines traditional methods from Dr\, Peck’s original Community Building methods with new formats to meet today’s evolving challenges and desired outcomes. \nTime: 10am (Nov 21) to 12pm (Nov 22) \nFee: 250 EUR \nRegistration:  Please RSVP below to sign the Required Participation Waivers. Then\, email the hosts directly to register at switzerland@communitybuilding.com. \nFacilitators: Edward Groody\, Andreas Reese
URL:https://communitybuilding.com/event/art-of-connection-cbst-steckborn-nov2024/
LOCATION:Venue in Steckborn\, Schloss Glarisegg\, Steckborn\, Switzerland
CATEGORIES:CBST,English,Facilitated by Edward Groody,German,In Person,Public,Workshop
ATTACH;FMTTYPE=image/png:https://communitybuilding.com/wp-content/uploads/2024/01/Screenshot-2024-01-16-at-9.13.37-AM.png
ORGANIZER;CN="Kathrin Jehle":MAILTO:switzerland@communitybuilding.com
GEO:47.6549028;8.9566413
X-APPLE-STRUCTURED-LOCATION;VALUE=URI;X-ADDRESS=Venue in Steckborn Schloss Glarisegg Steckborn Switzerland;X-APPLE-RADIUS=500;X-TITLE=Schloss Glarisegg:geo:8.9566413,47.6549028
END:VEVENT
BEGIN:VEVENT
DTSTART;VALUE=DATE:20240328
DTEND;VALUE=DATE:20240331
DTSTAMP:20260424T231342
CREATED:20231218T233428Z
LAST-MODIFIED:20231221T141619Z
UID:10000097-1711584000-1711843199@communitybuilding.com
SUMMARY:Community Building Workshop (CBW) in Switzerland (PUBLIC)
DESCRIPTION:The Community Building Workshop (CBW) is the original workshop format developed by Dr. Peck with a focus on experientially learning and experiencing Community Building guidelines and principles for personal\, spiritual and professional growth. \nThe CBW involves a group process aimed at deeper\, more authentic communication. Using a set of guidelines and principles rather than an agenda or particular procedure\, participants are gently guided by specially trained facilitators who take the group through a process that shows how to look beyond the cultural\, political and religious differences that prevent us from embracing our common humanity. During a CBW\, the ultimate goal of the group is to experience a deeper level of being in community. \nThis is a PUBLIC workshop. Cost is to be determined. Scholarships are available based on financial need. Please contact the organizer for more information. \nDuration:  Do. 17.00 Uhr – Samstag. 16.00 Uhr \nRegistration:  For more information and to register for this workshop\, please contact the organizer:  Kathrin Jehle (switzerland@communitybuilding.com or andreas@bewusstwie.org). Note: Please fill out the Required Participation Waivers below in the RSVP. \nFacilitators:  Edward Groody\, Andreas Reese\, Babs Schmidt\, Verena Neuenschwander
URL:https://communitybuilding.com/event/community-building-workshop-cbw-in-switzerland-public/
LOCATION:Venue in Steckborn\, Schloss Glarisegg\, Steckborn\, Switzerland
CATEGORIES:CBW,English,Facilitated by Edward Groody,German,In Person,Public
ATTACH;FMTTYPE=image/jpeg:https://communitybuilding.com/wp-content/uploads/2023/12/schloss_glarisegg.jpeg
ORGANIZER;CN="Kathrin Jehle":MAILTO:switzerland@communitybuilding.com
GEO:47.6549028;8.9566413
X-APPLE-STRUCTURED-LOCATION;VALUE=URI;X-ADDRESS=Venue in Steckborn Schloss Glarisegg Steckborn Switzerland;X-APPLE-RADIUS=500;X-TITLE=Schloss Glarisegg:geo:8.9566413,47.6549028
END:VEVENT
END:VCALENDAR