BEGIN:VCALENDAR
VERSION:2.0
PRODID:-//Community Building International - ECPv6.15.20//NONSGML v1.0//EN
CALSCALE:GREGORIAN
METHOD:PUBLISH
X-ORIGINAL-URL:https://communitybuilding.com
X-WR-CALDESC:Events for Community Building International
REFRESH-INTERVAL;VALUE=DURATION:PT1H
X-Robots-Tag:noindex
X-PUBLISHED-TTL:PT1H
BEGIN:VTIMEZONE
TZID:Europe/Prague
BEGIN:DAYLIGHT
TZOFFSETFROM:+0100
TZOFFSETTO:+0200
TZNAME:CEST
DTSTART:20240331T010000
END:DAYLIGHT
BEGIN:STANDARD
TZOFFSETFROM:+0200
TZOFFSETTO:+0100
TZNAME:CET
DTSTART:20241027T010000
END:STANDARD
BEGIN:DAYLIGHT
TZOFFSETFROM:+0100
TZOFFSETTO:+0200
TZNAME:CEST
DTSTART:20250330T010000
END:DAYLIGHT
BEGIN:STANDARD
TZOFFSETFROM:+0200
TZOFFSETTO:+0100
TZNAME:CET
DTSTART:20251026T010000
END:STANDARD
BEGIN:DAYLIGHT
TZOFFSETFROM:+0100
TZOFFSETTO:+0200
TZNAME:CEST
DTSTART:20260329T010000
END:DAYLIGHT
BEGIN:STANDARD
TZOFFSETFROM:+0200
TZOFFSETTO:+0100
TZNAME:CET
DTSTART:20261025T010000
END:STANDARD
END:VTIMEZONE
BEGIN:VEVENT
DTSTART;VALUE=DATE:20250425
DTEND;VALUE=DATE:20250428
DTSTAMP:20260424T143307
CREATED:20250325T161958Z
LAST-MODIFIED:20250325T161958Z
UID:10000396-1745539200-1745798399@communitybuilding.com
SUMMARY:Authentic Communication Retreat for Women
DESCRIPTION:It is in woman’s nature to be the connector\, to weave harmony through relationships.\nAnd yet we also carry a natural yearning for freedom to be ourselves\, to be seen in our relationships\, to experience deep intimacy\, feel connected\, and bloom in communities of the like-minded.\n\nHow can we create safety\, a sense of mutual respect and deep connection in any relationship? What is the foundation for fulfilling intimacy and open authentic self-expression?\n\nDuring this three-day retreat you will receive the keys for bringing your relationships to a new level\, experiencing a sense of belonging\, intimacy and bonding. The practice of authentic communication will follow the framework of the three-day Community Building Process\, developed by M. Scott Peck.\n\nThe retreat is for women\, who wish:\n to create an authentic\, soul-fulfilling community around them\, bring more life and meaning to all their relationships\, experience deeper intimacy and joy with partners\, build trustful contact and connection with children\, feel seen\, understood and acknowledged\, be able to transform conflicts into harmony.\n\nThe retreat will take place in natural location in the proximity of lake Balaton (“the Hungarian sea”)\, a forest and a stream\, where you can connect with yourself and the group in peace and quiet away from everyday tasks.\n\nYou can let yourself be taken care of\, with delicious food\, comfortable accommodation and professional guidance. During the breaks you can relax in the sauna and take walks in the surrounding nature.\n\n\nDiscover more and register here: https://kozossegepitok.hu/2025-april-woman-cbw-en/
URL:https://communitybuilding.com/event/authentic-communication-retreat-for-women/
LOCATION:Belsőörs House\, Hóvirág utca 24.\, Felsőörs\, 8227\, Hungary
CATEGORIES:CBW,English,Hungarian,In Person,Public
ATTACH;FMTTYPE=image/jpeg:https://communitybuilding.com/wp-content/uploads/2025/03/banner.jpg
ORGANIZER;CN="Arina Matvejeva":MAILTO:arina.matvejeva@gmail.com
GEO:47.0124404;17.947091
X-APPLE-STRUCTURED-LOCATION;VALUE=URI;X-ADDRESS=Belsőörs House Hóvirág utca 24. Felsőörs 8227 Hungary;X-APPLE-RADIUS=500;X-TITLE=Hóvirág utca 24.:geo:17.947091,47.0124404
END:VEVENT
END:VCALENDAR