BEGIN:VCALENDAR
VERSION:2.0
PRODID:-//Community Building International - ECPv6.15.20//NONSGML v1.0//EN
CALSCALE:GREGORIAN
METHOD:PUBLISH
X-WR-CALNAME:Community Building International
X-ORIGINAL-URL:https://communitybuilding.com
X-WR-CALDESC:Events for Community Building International
REFRESH-INTERVAL;VALUE=DURATION:PT1H
X-Robots-Tag:noindex
X-PUBLISHED-TTL:PT1H
BEGIN:VTIMEZONE
TZID:Europe/Bratislava
BEGIN:DAYLIGHT
TZOFFSETFROM:+0100
TZOFFSETTO:+0200
TZNAME:CEST
DTSTART:20230326T010000
END:DAYLIGHT
BEGIN:STANDARD
TZOFFSETFROM:+0200
TZOFFSETTO:+0100
TZNAME:CET
DTSTART:20231029T010000
END:STANDARD
BEGIN:DAYLIGHT
TZOFFSETFROM:+0100
TZOFFSETTO:+0200
TZNAME:CEST
DTSTART:20240331T010000
END:DAYLIGHT
BEGIN:STANDARD
TZOFFSETFROM:+0200
TZOFFSETTO:+0100
TZNAME:CET
DTSTART:20241027T010000
END:STANDARD
BEGIN:DAYLIGHT
TZOFFSETFROM:+0100
TZOFFSETTO:+0200
TZNAME:CEST
DTSTART:20250330T010000
END:DAYLIGHT
BEGIN:STANDARD
TZOFFSETFROM:+0200
TZOFFSETTO:+0100
TZNAME:CET
DTSTART:20251026T010000
END:STANDARD
BEGIN:DAYLIGHT
TZOFFSETFROM:+0100
TZOFFSETTO:+0200
TZNAME:CEST
DTSTART:20260329T010000
END:DAYLIGHT
BEGIN:STANDARD
TZOFFSETFROM:+0200
TZOFFSETTO:+0100
TZNAME:CET
DTSTART:20261025T010000
END:STANDARD
END:VTIMEZONE
BEGIN:VEVENT
DTSTART;TZID=Europe/Bratislava:20250912T160000
DTEND;TZID=Europe/Bratislava:20250914T160000
DTSTAMP:20260424T215130
CREATED:20250827T142514Z
LAST-MODIFIED:20250827T143841Z
UID:10000431-1757692800-1757865600@communitybuilding.com
SUMMARY:Community Building Workshop
DESCRIPTION:CBW in Slovak\, but with translation. English speakers are also welcome. \nCBW v slovenčine\, ale s prekladom. Anglicky hovoriaci sú tiež vítaní.
URL:https://communitybuilding.com/event/community-building-workshop-2/
LOCATION:Piešťany\, Slovakia\, Piešťany\, Slovakia (Slovak Republic)
CATEGORIES:CBW,English,Slovakian
ATTACH;FMTTYPE=image/png:https://communitybuilding.com/wp-content/uploads/2025/08/CBW-2025-tootoot-2ku1_bez-datumu.png
ORGANIZER;CN="%C4%BDubom%C3%ADr Harmanovsk%C3%BD":MAILTO:lubomir@communitybuilding.sk
END:VEVENT
BEGIN:VEVENT
DTSTART;TZID=Europe/Bratislava:20240531T160000
DTEND;TZID=Europe/Bratislava:20240602T170000
DTSTAMP:20260424T215130
CREATED:20240506T160356Z
LAST-MODIFIED:20240506T160356Z
UID:10000257-1717171200-1717347600@communitybuilding.com
SUMMARY:The Art of Connection: CBST in Slovakia (PUBLIC)
DESCRIPTION:The Art of Connection: Community Building Skills Training (CBST) provides both structured exercises with a focus on learning specific skills to build connection and improve communication in everyday life. The CBST is the format most often used for practical applications by business\, human service\, criminal justice\, and other organizations seeking to improve outcomes. The CBST combines traditional methods from Dr\, Peck’s original Community Building methods with new formats to meet today’s evolving challenges and desired outcomes. \n\nCost: €150 \n\nThis is a PUBLIC event.  \nRegistration:   \n\nTo register or for more information\, please click here.\nAlso\, please click the RSVP below to fill out the Required Participation Waivers. Thank you!
URL:https://communitybuilding.com/event/the-art-of-connection-cbst-in-slovakia-public-3/
LOCATION:Piešťany\, Slovakia\, Piešťany\, Slovakia (Slovak Republic)
CATEGORIES:CBST,Czech,In Person,Public,Slovakian
ATTACH;FMTTYPE=image/png:https://communitybuilding.com/wp-content/uploads/2024/05/Screenshot-2024-05-06-at-12.01.07-PM.png
ORGANIZER;CN="%C4%BDubom%C3%ADr Harmanovsk%C3%BD":MAILTO:lubomir@communitybuilding.sk
END:VEVENT
END:VCALENDAR