BEGIN:VCALENDAR
VERSION:2.0
PRODID:-//Community Building International - ECPv6.15.20//NONSGML v1.0//EN
CALSCALE:GREGORIAN
METHOD:PUBLISH
X-ORIGINAL-URL:https://communitybuilding.com
X-WR-CALDESC:Events for Community Building International
REFRESH-INTERVAL;VALUE=DURATION:PT1H
X-Robots-Tag:noindex
X-PUBLISHED-TTL:PT1H
BEGIN:VTIMEZONE
TZID:Europe/Prague
BEGIN:DAYLIGHT
TZOFFSETFROM:+0100
TZOFFSETTO:+0200
TZNAME:CEST
DTSTART:20240331T010000
END:DAYLIGHT
BEGIN:STANDARD
TZOFFSETFROM:+0200
TZOFFSETTO:+0100
TZNAME:CET
DTSTART:20241027T010000
END:STANDARD
BEGIN:DAYLIGHT
TZOFFSETFROM:+0100
TZOFFSETTO:+0200
TZNAME:CEST
DTSTART:20250330T010000
END:DAYLIGHT
BEGIN:STANDARD
TZOFFSETFROM:+0200
TZOFFSETTO:+0100
TZNAME:CET
DTSTART:20251026T010000
END:STANDARD
BEGIN:DAYLIGHT
TZOFFSETFROM:+0100
TZOFFSETTO:+0200
TZNAME:CEST
DTSTART:20260329T010000
END:DAYLIGHT
BEGIN:STANDARD
TZOFFSETFROM:+0200
TZOFFSETTO:+0100
TZNAME:CET
DTSTART:20261025T010000
END:STANDARD
END:VTIMEZONE
BEGIN:VEVENT
DTSTART;TZID=Europe/Prague:20250523T170000
DTEND;TZID=Europe/Prague:20250525T170000
DTSTAMP:20260424T161022
CREATED:20250424T152834Z
LAST-MODIFIED:20250424T154439Z
UID:10000400-1748019600-1748192400@communitybuilding.com
SUMMARY:Community Building Workshop in Prague
DESCRIPTION:The Community Building Workshop (CBW) is the original workshop format developed by Dr. Peck with a focus on experientially learning and experiencing Community Building guidelines and principles for personal\, spiritual and professional growth. \nThe CBW involves a group process aimed at deeper\, more authentic communication. Using a set of guidelines and principles rather than an agenda or particular procedure\, participants are gently guided by specially trained facilitators who take the group through a process that shows how to look beyond the cultural\, political and religious differences that prevent us from embracing our common humanity. During a CBW\, the ultimate goal of the group is to experience a deeper level of being in community. \nThis is a PUBLIC workshop. \nDates: 23rd – 25th May 2025\nLocation: Loreto Center\, Štorchova 1555/5 (Rohanský Island)\, Prague 8\nPrice: 3000 – 5000 CZK\, according to your means\nPrice for students: 1000 CZK\nFacilitators: Vanda Marečková\, Martin Kaše\, Asia Gumieniak\, Danny Iacono\nLanguage: Czech / English (simultaneous interpretation via headphones) \nRegistration: Please register via this link \n 
URL:https://communitybuilding.com/event/prague/
LOCATION:Loreto Center\, Štorchova\, Prague 8-Libeň\, Czechia\, Loreto Center\, Štorchova\, Prague 8-Libeň\, Prague\, Czech Republic
CATEGORIES:CBW,Czech,English,In Person,Public,Workshop
ATTACH;FMTTYPE=image/jpeg:https://communitybuilding.com/wp-content/uploads/2025/04/kate-tepl-0sChAov29gQ-unsplash-scaled.jpeg
ORGANIZER;CN="Martin Ka%C5%A1e":MAILTO:martin@communitybuilding.live
GEO:50.1039672;14.4643948
X-APPLE-STRUCTURED-LOCATION;VALUE=URI;X-ADDRESS=Loreto Center Štorchova Prague 8-Libeň Czechia Loreto Center Štorchova Prague 8-Libeň Prague Czech Republic;X-APPLE-RADIUS=500;X-TITLE=Loreto Center\, Štorchova\, Prague 8-Libeň:geo:14.4643948,50.1039672
END:VEVENT
END:VCALENDAR