BEGIN:VCALENDAR
VERSION:2.0
PRODID:-//Community Building International - ECPv6.15.20//NONSGML v1.0//EN
CALSCALE:GREGORIAN
METHOD:PUBLISH
X-WR-CALNAME:Community Building International
X-ORIGINAL-URL:https://communitybuilding.com
X-WR-CALDESC:Events for Community Building International
REFRESH-INTERVAL;VALUE=DURATION:PT1H
X-Robots-Tag:noindex
X-PUBLISHED-TTL:PT1H
BEGIN:VTIMEZONE
TZID:Europe/Zurich
BEGIN:DAYLIGHT
TZOFFSETFROM:+0100
TZOFFSETTO:+0200
TZNAME:CEST
DTSTART:20230326T010000
END:DAYLIGHT
BEGIN:STANDARD
TZOFFSETFROM:+0200
TZOFFSETTO:+0100
TZNAME:CET
DTSTART:20231029T010000
END:STANDARD
BEGIN:DAYLIGHT
TZOFFSETFROM:+0100
TZOFFSETTO:+0200
TZNAME:CEST
DTSTART:20240331T010000
END:DAYLIGHT
BEGIN:STANDARD
TZOFFSETFROM:+0200
TZOFFSETTO:+0100
TZNAME:CET
DTSTART:20241027T010000
END:STANDARD
BEGIN:DAYLIGHT
TZOFFSETFROM:+0100
TZOFFSETTO:+0200
TZNAME:CEST
DTSTART:20250330T010000
END:DAYLIGHT
BEGIN:STANDARD
TZOFFSETFROM:+0200
TZOFFSETTO:+0100
TZNAME:CET
DTSTART:20251026T010000
END:STANDARD
BEGIN:DAYLIGHT
TZOFFSETFROM:+0100
TZOFFSETTO:+0200
TZNAME:CEST
DTSTART:20260329T010000
END:DAYLIGHT
BEGIN:STANDARD
TZOFFSETFROM:+0200
TZOFFSETTO:+0100
TZNAME:CET
DTSTART:20261025T010000
END:STANDARD
END:VTIMEZONE
BEGIN:VEVENT
DTSTART;VALUE=DATE:20250905
DTEND;VALUE=DATE:20250908
DTSTAMP:20260424T144930
CREATED:20250610T181302Z
LAST-MODIFIED:20250827T142604Z
UID:10000413-1757030400-1757289599@communitybuilding.com
SUMMARY:Community Building Workshop
DESCRIPTION:Der Workshop ist für alle Menschen\, die an ihrer persönlichen Entfaltung arbeiten und / oder andere dabei unterstützen wollen. Herzlich eingeladen sind auch alle\, die in ihren Teams\, Organisationen und Communities nach Wegen suchen\, die Zusammenarbeit oder das Zusammenleben auf eine neue Stufe zu heben.\nDer Community-Building Workshop kann auch unabhängig von dem Interesse an der konkreten Gründung eines Gemeinschaftsprojekts besucht werden. \nDer Workshop findet im Naturisten Gelände in Thielle statt. Teilnehmende sollten also eine Offenheit für die Bewegung des Naturismus mitbringen und sich während des Workshops an die Geländeregeln halten (zB. vegetarische Ernährung\, kein Alkohol auf dem Gelände\, kein Nikotin auf dem Gelände\, ausserhalb der Workshopzeiten bewegen wir uns nackt – oder nur leicht bekleidet mit einem Hüfttuch – wenn die Temperaturen es erlauben\, im See baden wir nackt). Mehr Informationen zum Naturismus und zu Thielle ist auf der Webseite – www.die-neue-zeit.ch zu finden.\nDer Zutritt aufs Gelände ist für Workshopbesucher:innen auch ohne Mitgliedschaft in einem Naturistenverein möglich\, eine Schnupperführung wird nicht verlangt – die Kursleitung wird am Beginn des Workshops auf die wichtigen Verhaltensregeln hinweisen. \nLocation: Naturistengelände „die-neue-zeit“\, Rothausstrasse 105\, 3236 Gampelen\, Switzerland (www.die-neue-zeit.ch) \nOrganizer: Verena Neuenschwander\, kontakt@longtide.ch \nFacilitators: Vanda Marečková\, Iris Schmidt Koopmann\, Verena Neuenschwander\, ev. Anna Midonska \nCost:CHF 360 – 780\, Scholarship available \nRegistration: Please register via this link
URL:https://communitybuilding.com/event/community-building-workshop/
LOCATION:Naturistengelände “die neue Zeit”\, Rothhausstrasse 105\, Gampelen\, 3236
CATEGORIES:CBW,English,German,In Person,Public,Workshop
ATTACH;FMTTYPE=image/jpeg:https://communitybuilding.com/wp-content/uploads/2025/06/Z5A3148-HDR-2.jpg
ORGANIZER;CN="Verena Neuenschwander":MAILTO:kontakt@longtide.ch
GEO:47.0087243;7.0293876
X-APPLE-STRUCTURED-LOCATION;VALUE=URI;X-ADDRESS=Naturistengelände “die neue Zeit” Rothhausstrasse 105 Gampelen 3236;X-APPLE-RADIUS=500;X-TITLE=Rothhausstrasse 105:geo:7.0293876,47.0087243
END:VEVENT
BEGIN:VEVENT
DTSTART;VALUE=DATE:20240823
DTEND;VALUE=DATE:20240826
DTSTAMP:20260424T144930
CREATED:20231220T220341Z
LAST-MODIFIED:20231220T220341Z
UID:10000102-1724371200-1724630399@communitybuilding.com
SUMMARY:Community Building Workshop (CBW) in Switzerland (PUBLIC)
DESCRIPTION:The Community Building Workshop (CBW) is the original workshop format developed by Dr. Peck with a focus on experientially learning and experiencing Community Building guidelines and principles for personal\, spiritual and professional growth. \nThe CBW involves a group process aimed at deeper\, more authentic communication. Using a set of guidelines and principles rather than an agenda or particular procedure\, participants are gently guided by specially trained facilitators who take the group through a process that shows how to look beyond the cultural\, political and religious differences that prevent us from embracing our common humanity. During a CBW\, the ultimate goal of the group is to experience a deeper level of being in community. \nThis is a PUBLIC workshop. Cost is to be determined. Scholarships are available based on financial need. Please contact the organizer for more information. \nRegistration:  For more information and to register for this workshop\, please contact the organizer: Verena Neuenschwander\, v.neuenschwander@bluewin.ch. Note: Please fill out the Required Participation Waivers below in the RSVP and then contact the organizer to finish registering! \nFacilitators: Andreas Reese\, Verena Neuenschwander\, Iris Schmidt
URL:https://communitybuilding.com/event/community-building-workshop-cbw-in-switzerland-public-5/
LOCATION:Venue in Gampelen\, Rothausstrasse 105\, 3236\, Gampelen\, Switzerland
CATEGORIES:CBW,German,In Person,Public
ATTACH;FMTTYPE=image/png:https://communitybuilding.com/wp-content/uploads/2023/12/Screenshot-2023-12-20-at-6.01.56-PM.png
ORGANIZER;CN="Verena Neuenschwander":MAILTO:kontakt@longtide.ch
GEO:47.008734;7.029403
X-APPLE-STRUCTURED-LOCATION;VALUE=URI;X-ADDRESS=Venue in Gampelen Rothausstrasse 105 3236 Gampelen Switzerland;X-APPLE-RADIUS=500;X-TITLE=Rothausstrasse 105\, 3236:geo:7.029403,47.008734
END:VEVENT
BEGIN:VEVENT
DTSTART;VALUE=DATE:20240412
DTEND;VALUE=DATE:20240415
DTSTAMP:20260424T144930
CREATED:20231218T181719Z
LAST-MODIFIED:20231222T171446Z
UID:10000094-1712880000-1713139199@communitybuilding.com
SUMMARY:Art of Connection: CBST in Switzerland (PUBLIC)
DESCRIPTION:The Art of Connection: Community Building Skills Training (CBST) provides both structured exercises with a focus on learning specific skills to build connection and improve communication in everyday life. The CBST is the format most often used for practical applications by business\, human service\, criminal justice\, and other organizations seeking to improve outcomes. The CBST combines traditional methods from Dr\, Peck’s original Community Building methods with new formats to meet today’s evolving challenges and desired outcomes. \nLanguage: German without translation \nTime: To be announced \nCost: (Scholarships available — please contact the organizers for more information) \n\nCHF 200.- for Members of Erfahrungskreis\, FITs and members of the ongoing circling group of Basel\nCHF 350.- for public\n\nRegistration:  Please RSVP below to sign the Required Participation Waiver. Then\, email the hosts directly to register — Verena Neuenschwander (v.neuenschwander@bluewin.ch) and Verein Erfahrungskreis (sekretariat@erfahrungskreis.ch). \nFacilitators: Simone Kosog\, Andreas Reese\, Verena Neuenschwander
URL:https://communitybuilding.com/event/art-of-connection-cbst-in-switzerland/
LOCATION:Venue in Switzerland\, Haus der Begegnung\, Mittelstrasse 6a\, Bern\, 3012\, Switzerland
CATEGORIES:CBST,German,In Person,Public
ATTACH;FMTTYPE=image/jpeg:https://communitybuilding.com/wp-content/uploads/2023/12/bern-switzerland-1.jpeg
ORGANIZER;CN="Verena Neuenschwander":MAILTO:kontakt@longtide.ch
GEO:46.9479739;7.4474468
X-APPLE-STRUCTURED-LOCATION;VALUE=URI;X-ADDRESS=Venue in Switzerland Haus der Begegnung Mittelstrasse 6a Bern 3012 Switzerland;X-APPLE-RADIUS=500;X-TITLE=Haus der Begegnung\, Mittelstrasse 6a:geo:7.4474468,46.9479739
END:VEVENT
END:VCALENDAR