BEGIN:VCALENDAR
VERSION:2.0
PRODID:-//Community Building International - ECPv6.15.20//NONSGML v1.0//EN
CALSCALE:GREGORIAN
METHOD:PUBLISH
X-WR-CALNAME:Community Building International
X-ORIGINAL-URL:https://communitybuilding.com
X-WR-CALDESC:Events for Community Building International
REFRESH-INTERVAL;VALUE=DURATION:PT1H
X-Robots-Tag:noindex
X-PUBLISHED-TTL:PT1H
BEGIN:VTIMEZONE
TZID:Europe/Zurich
BEGIN:DAYLIGHT
TZOFFSETFROM:+0100
TZOFFSETTO:+0200
TZNAME:CEST
DTSTART:20250330T010000
END:DAYLIGHT
BEGIN:STANDARD
TZOFFSETFROM:+0200
TZOFFSETTO:+0100
TZNAME:CET
DTSTART:20251026T010000
END:STANDARD
BEGIN:DAYLIGHT
TZOFFSETFROM:+0100
TZOFFSETTO:+0200
TZNAME:CEST
DTSTART:20260329T010000
END:DAYLIGHT
BEGIN:STANDARD
TZOFFSETFROM:+0200
TZOFFSETTO:+0100
TZNAME:CET
DTSTART:20261025T010000
END:STANDARD
BEGIN:DAYLIGHT
TZOFFSETFROM:+0100
TZOFFSETTO:+0200
TZNAME:CEST
DTSTART:20270328T010000
END:DAYLIGHT
BEGIN:STANDARD
TZOFFSETFROM:+0200
TZOFFSETTO:+0100
TZNAME:CET
DTSTART:20271031T010000
END:STANDARD
END:VTIMEZONE
BEGIN:VEVENT
DTSTART;TZID=Europe/Zurich:20260605T160000
DTEND;TZID=Europe/Zurich:20260607T160000
DTSTAMP:20260424T131916
CREATED:20260210T115246Z
LAST-MODIFIED:20260210T115246Z
UID:10000455-1780675200-1780848000@communitybuilding.com
SUMMARY:CBST Workshop in Thielle (Naturist Camping die neue zeit)
DESCRIPTION:Grundlage von Community Building Skills Training (CBST) ist der Prozess der Gemeinschaftsbildung\, wie sie der Psychologe Dr. Scott Peck in jahrelanger Forschung untersucht hat. \nWie geht Gemeinschaft:\nCommunitybuilding lässt sich nicht theoretisch erlernen. Es geht um die direkte Erfahrung\, um die unmittelbare Begegnung: Wer bin ich in einer Gruppe von Menschen? Wer sind die anderen? Und wie können wir uns treffen – ehrlich und relevant? \nKommunikation unter die Lupe genommen:\nBeim CBST werden elementare Bestandteile gelingender Kommunikation genau betrachtet\, einzeln eingeübt und anschließend im eigentlichen Communitybuilding-Prozess in die Praxis gebracht. In diesem effektiven Wechsel aus angeleiteter Übung und Anwendung in der Gruppe erfahren die TeilnehmerInnen direkt\, wie eine veränderte Kommunikation zwangsläufig auch die Begegnungen in der Gruppe verändert. Für viele TeilnehmerInnen ist dies nicht weniger als ein Paradigmenwechsel. \nDa unser Moderatorenteam sowohl Englisch als auch Deutsch spricht\, wird dieser Workshop in beiden Sprachen abgehalten und in beide Sprachen übersetzt! \nBecause our Facilitator Team is both English and German speaking – this Workshop is held in both languages and will be translated into both languages! \nCommunity Building Skills Training (CBST) is based on the process of community building as studied by psychologist Dr. Scott Peck in years of research. \nHow community works:\nCommunity building cannot be learned theoretically. It is about direct experience\, about immediate encounters: Who am I in a group of people? Who are the others? And how can we meet—honestly and meaningfully? \nCommunication under the microscope:\nCBST takes a close look at the basic components of successful communication\, practices them individually and then puts them into practice in the actual community building process. In this effective alternation between guided exercises and application in the group\, participants experience first-hand how a change in communication inevitably also changes encounters within the group. For many participants\, this is nothing less than a paradigm shift.
URL:https://communitybuilding.com/event/cbst-workshop-in-thielle-naturist-camping-die-neue-zeit/
LOCATION:Naturistengelände “die neue Zeit”\, Rothhausstrasse 105\, Gampelen\, 3236
CATEGORIES:CBST,English,German,In Person,Public
ATTACH;FMTTYPE=image/jpeg:https://communitybuilding.com/wp-content/uploads/2026/02/IMG_5362-scaled.jpeg
ORGANIZER;CN="Verena Neuenschwander":MAILTO:kontakt@longtide.ch
GEO:47.0087243;7.0293876
X-APPLE-STRUCTURED-LOCATION;VALUE=URI;X-ADDRESS=Naturistengelände “die neue Zeit” Rothhausstrasse 105 Gampelen 3236;X-APPLE-RADIUS=500;X-TITLE=Rothhausstrasse 105:geo:7.0293876,47.0087243
END:VEVENT
BEGIN:VEVENT
DTSTART;VALUE=DATE:20261012
DTEND;VALUE=DATE:20261019
DTSTAMP:20260424T131916
CREATED:20260329T123905Z
LAST-MODIFIED:20260330T083114Z
UID:10000521-1791763200-1792367999@communitybuilding.com
SUMMARY:Gemeinschaftsbildung mit Fasten und Meditation / Community Building with Fasting and Meditation
DESCRIPTION:Der Prozess der Gemeinschaftsbildung nach Scott Peck ermöglicht ein tiefes Eintauchen in die Begegnung mit dir selbst. Aus diesem tiefen Selbstkontakt entsteht mit Hilfe der Leitsätze der Gemeinschaftsbildung eine neue Form des Zuhörens\, die Begegnungen werden authentischer – dies ist die Grundlage\, mit den anderen Teilnehmenden Gemeinschaft zu bilden. Wir werden viel gemeinsame Zeit im Kreis haben\, um die 4 Phasen des Prozesses zu erfahren. Zeit\, um Masken und nicht mehr passende Gewohnheiten zu erkennen\, anzunehmen und sie Schritt für Schritt abzulegen. Damit wird der Raum für neue Lebenserfahrungen im Alltag geöffnet. Das Format wird ein Community Building Skills Training mit viel Kreiszeit sein. \nFasten und Meditation werden uns auf dieser gemeinsamen Reise unterstützen. Durch die Reduktion der Ernährung wird der Geist wach und der Körper gereinigt.\nWenn du möchtest\, kannst du diese Woche auch für einen digitalen Detox nutzen und deine elektronischen Geräte (Telefon\, Tablets\, Computer\, Smart-Watch…) eine Woche lang ausschalten. \nMeditation führt in die Stille\, in einen tiefen Kontakt mit dir selbst und dem Urgrund des Seins. Wichtige Lebensthemen können sich zeigen\, eine Standortbestimmung\, und vielleicht zeigt sich eine neue Ausrichtung für dein Wirken in dieser Welt. \n  \nThe process of community building according to Scott Peck allows for a deep immersion in the encounter with yourself. From this deep self-contact\, with the help of the guiding principles of community building\, a new form of listening emerges\, and encounters become more authentic—this is the foundation for building community with the other participants. We will spend a lot of time together in a circle to experience the 4 phases of the process. Time to recognize masks and habits that no longer serve us\, to accept them\, and to shed them step by step. This opens up space for new life experiences in everyday life. The format will be a Community Building Skills Training with plenty of circle time. \nFasting and meditation will support us on this journey. By reducing our food intake\, the mind becomes alert and the body is cleansed. If you wish\, you can also use this week for a digital detox and turn off your electronic devices (phone\, tablets\, computer\, smartwatch…) for a week. \nMeditation leads to stillness\, to a deep connection with yourself and the source of being. Important life themes may emerge\, an opportunity to assess where you stand\, and perhaps a new direction for you being creative in this world will reveal itself. \n(Translation with Deep)
URL:https://communitybuilding.com/event/gemeinschaftsbildung-mit-fasten-und-meditation/2026-10-12/1/
LOCATION:Seminarhaus Spiert Avert\, Somvih 60\, Tschlin\, GR\, 7559\, Switzerland
CATEGORIES:CBST,English,Facilitated by Simone Kosog,German,In Person,Public
ATTACH;FMTTYPE=image/jpeg:https://communitybuilding.com/wp-content/uploads/2026/03/IMG_5458-scaled.jpeg
ORGANIZER;CN="Verena Neuenschwander":MAILTO:kontakt@longtide.ch
GEO:46.8696575;10.4252447
X-APPLE-STRUCTURED-LOCATION;VALUE=URI;X-ADDRESS=Seminarhaus Spiert Avert Somvih 60 Tschlin GR 7559 Switzerland;X-APPLE-RADIUS=500;X-TITLE=Somvih 60:geo:10.4252447,46.8696575
END:VEVENT
BEGIN:VEVENT
DTSTART;VALUE=DATE:20261012
DTEND;VALUE=DATE:20261013
DTSTAMP:20260424T131916
CREATED:20260329T123905Z
LAST-MODIFIED:20260330T083114Z
UID:10000522-1791792000-1791824400@communitybuilding.com
SUMMARY:Gemeinschaftsbildung mit Fasten und Meditation / Community Building with Fasting and Meditation
DESCRIPTION:Der Prozess der Gemeinschaftsbildung nach Scott Peck ermöglicht ein tiefes Eintauchen in die Begegnung mit dir selbst. Aus diesem tiefen Selbstkontakt entsteht mit Hilfe der Leitsätze der Gemeinschaftsbildung eine neue Form des Zuhörens\, die Begegnungen werden authentischer – dies ist die Grundlage\, mit den anderen Teilnehmenden Gemeinschaft zu bilden. Wir werden viel gemeinsame Zeit im Kreis haben\, um die 4 Phasen des Prozesses zu erfahren. Zeit\, um Masken und nicht mehr passende Gewohnheiten zu erkennen\, anzunehmen und sie Schritt für Schritt abzulegen. Damit wird der Raum für neue Lebenserfahrungen im Alltag geöffnet. Das Format wird ein Community Building Skills Training mit viel Kreiszeit sein. \nFasten und Meditation werden uns auf dieser gemeinsamen Reise unterstützen. Durch die Reduktion der Ernährung wird der Geist wach und der Körper gereinigt.\nWenn du möchtest\, kannst du diese Woche auch für einen digitalen Detox nutzen und deine elektronischen Geräte (Telefon\, Tablets\, Computer\, Smart-Watch…) eine Woche lang ausschalten. \nMeditation führt in die Stille\, in einen tiefen Kontakt mit dir selbst und dem Urgrund des Seins. Wichtige Lebensthemen können sich zeigen\, eine Standortbestimmung\, und vielleicht zeigt sich eine neue Ausrichtung für dein Wirken in dieser Welt. \n  \nThe process of community building according to Scott Peck allows for a deep immersion in the encounter with yourself. From this deep self-contact\, with the help of the guiding principles of community building\, a new form of listening emerges\, and encounters become more authentic—this is the foundation for building community with the other participants. We will spend a lot of time together in a circle to experience the 4 phases of the process. Time to recognize masks and habits that no longer serve us\, to accept them\, and to shed them step by step. This opens up space for new life experiences in everyday life. The format will be a Community Building Skills Training with plenty of circle time. \nFasting and meditation will support us on this journey. By reducing our food intake\, the mind becomes alert and the body is cleansed. If you wish\, you can also use this week for a digital detox and turn off your electronic devices (phone\, tablets\, computer\, smartwatch…) for a week. \nMeditation leads to stillness\, to a deep connection with yourself and the source of being. Important life themes may emerge\, an opportunity to assess where you stand\, and perhaps a new direction for you being creative in this world will reveal itself. \n(Translation with Deep)
URL:https://communitybuilding.com/event/gemeinschaftsbildung-mit-fasten-und-meditation/2026-10-12/2/
LOCATION:Seminarhaus Spiert Avert\, Somvih 60\, Tschlin\, GR\, 7559\, Switzerland
CATEGORIES:CBST,English,Facilitated by Simone Kosog,German,In Person,Public
ATTACH;FMTTYPE=image/jpeg:https://communitybuilding.com/wp-content/uploads/2026/03/IMG_5458-scaled.jpeg
ORGANIZER;CN="Verena Neuenschwander":MAILTO:kontakt@longtide.ch
GEO:46.8696575;10.4252447
X-APPLE-STRUCTURED-LOCATION;VALUE=URI;X-ADDRESS=Seminarhaus Spiert Avert Somvih 60 Tschlin GR 7559 Switzerland;X-APPLE-RADIUS=500;X-TITLE=Somvih 60:geo:10.4252447,46.8696575
END:VEVENT
END:VCALENDAR