BEGIN:VCALENDAR
VERSION:2.0
PRODID:-//Community Building International - ECPv6.15.20//NONSGML v1.0//EN
CALSCALE:GREGORIAN
METHOD:PUBLISH
X-ORIGINAL-URL:https://communitybuilding.com
X-WR-CALDESC:Events for Community Building International
REFRESH-INTERVAL;VALUE=DURATION:PT1H
X-Robots-Tag:noindex
X-PUBLISHED-TTL:PT1H
BEGIN:VTIMEZONE
TZID:Europe/Bratislava
BEGIN:DAYLIGHT
TZOFFSETFROM:+0100
TZOFFSETTO:+0200
TZNAME:CEST
DTSTART:20230326T010000
END:DAYLIGHT
BEGIN:STANDARD
TZOFFSETFROM:+0200
TZOFFSETTO:+0100
TZNAME:CET
DTSTART:20231029T010000
END:STANDARD
BEGIN:DAYLIGHT
TZOFFSETFROM:+0100
TZOFFSETTO:+0200
TZNAME:CEST
DTSTART:20240331T010000
END:DAYLIGHT
BEGIN:STANDARD
TZOFFSETFROM:+0200
TZOFFSETTO:+0100
TZNAME:CET
DTSTART:20241027T010000
END:STANDARD
BEGIN:DAYLIGHT
TZOFFSETFROM:+0100
TZOFFSETTO:+0200
TZNAME:CEST
DTSTART:20250330T010000
END:DAYLIGHT
BEGIN:STANDARD
TZOFFSETFROM:+0200
TZOFFSETTO:+0100
TZNAME:CET
DTSTART:20251026T010000
END:STANDARD
END:VTIMEZONE
BEGIN:VEVENT
DTSTART;TZID=Europe/Bratislava:20240419T170000
DTEND;TZID=Europe/Bratislava:20240421T170000
DTSTAMP:20260424T233711
CREATED:20240226T165357Z
LAST-MODIFIED:20240226T165357Z
UID:10000252-1713546000-1713718800@communitybuilding.com
SUMMARY:Community Building Workshop (CBW) in Slovakia (PUBLIC)
DESCRIPTION:“We have a gift to build relationships authentically and with respect”. So\, we are are inviting you on a journey where you will learn through engaging in true authentic and respectful communication. As a result\, you can experience what it feels like to have deep relationships. In circle\, you will encounter yourself and others in a way that is very different from common communication exchanges. \nThe Community Building Workshop (CBW) is the original workshop format developed by Dr. Peck with a focus on experientially learning and experiencing Community Building guidelines and principles for personal\, spiritual and professional growth. \nThe CBW involves a group process aimed at deeper\, more authentic communication. Using a set of guidelines and principles rather than an agenda or particular procedure\, participants are gently guided by specially trained facilitators who take the group through a process that shows how to look beyond the cultural\, political and religious differences that prevent us from embracing our common humanity. During a CBW\, the ultimate goal of the group is to experience a deeper level of being in community. \nThis is a PUBLIC workshop. \nEvent Facilitators: Karol Herian\, Zuzana Vnenčáková\, Adrián Slavkovský\, Silvia Herianová \nCost: 130 – 180 euro \nDate/Time: Friday\, 19.04.2024\, 5 – 9 pm; Saturday\, 20.04.2024\, 9 am – 9 pm; Sunday\, 21.04.2024\, 9 am – 5 pm \nRegistration:  \n\nLink for registration HERE.\nAlso\, please fill out the Required Participation Waivers in the RSVP below! Thank you!
URL:https://communitybuilding.com/event/community-building-workshop-cbw-in-slovakia-public-3/
LOCATION:KOMUCE – Komunitné multifunkčné centrum\, Robotnícka\, Banská Bystrica\, Banská Bystrica\, 974 01\, Slovakia
CATEGORIES:CBW,In Person,Public,Slovakian
ATTACH;FMTTYPE=image/png:https://communitybuilding.com/wp-content/uploads/2024/02/Banska-Bystrica.png
ORGANIZER;CN="Zuzana Vnen%C4%8D%C3%A1kov%C3%A1":MAILTO:events@communitybuilding.com
GEO:48.7376494;19.1525928
X-APPLE-STRUCTURED-LOCATION;VALUE=URI;X-ADDRESS=KOMUCE – Komunitné multifunkčné centrum Robotnícka Banská Bystrica Banská Bystrica 974 01 Slovakia;X-APPLE-RADIUS=500;X-TITLE=Robotnícka:geo:19.1525928,48.7376494
END:VEVENT
END:VCALENDAR