BEGIN:VCALENDAR
VERSION:2.0
PRODID:-//Community Building International - ECPv6.15.20//NONSGML v1.0//EN
CALSCALE:GREGORIAN
METHOD:PUBLISH
X-ORIGINAL-URL:https://communitybuilding.com
X-WR-CALDESC:Events for Community Building International
REFRESH-INTERVAL;VALUE=DURATION:PT1H
X-Robots-Tag:noindex
X-PUBLISHED-TTL:PT1H
BEGIN:VTIMEZONE
TZID:Europe/Warsaw
BEGIN:DAYLIGHT
TZOFFSETFROM:+0100
TZOFFSETTO:+0200
TZNAME:CEST
DTSTART:20250330T010000
END:DAYLIGHT
BEGIN:STANDARD
TZOFFSETFROM:+0200
TZOFFSETTO:+0100
TZNAME:CET
DTSTART:20251026T010000
END:STANDARD
BEGIN:DAYLIGHT
TZOFFSETFROM:+0100
TZOFFSETTO:+0200
TZNAME:CEST
DTSTART:20260329T010000
END:DAYLIGHT
BEGIN:STANDARD
TZOFFSETFROM:+0200
TZOFFSETTO:+0100
TZNAME:CET
DTSTART:20261025T010000
END:STANDARD
BEGIN:DAYLIGHT
TZOFFSETFROM:+0100
TZOFFSETTO:+0200
TZNAME:CEST
DTSTART:20270328T010000
END:DAYLIGHT
BEGIN:STANDARD
TZOFFSETFROM:+0200
TZOFFSETTO:+0100
TZNAME:CET
DTSTART:20271031T010000
END:STANDARD
END:VTIMEZONE
BEGIN:VEVENT
DTSTART;TZID=Europe/Warsaw:20260326T160000
DTEND;TZID=Europe/Warsaw:20260329T150000
DTSTAMP:20260424T160826
CREATED:20251229T183142Z
LAST-MODIFIED:20260306T065659Z
UID:10000440-1774540800-1774796400@communitybuilding.com
SUMMARY:Community Building Workshop (CBW) Warsaw
DESCRIPTION:The CBW Classic is the original workshop format developed by Dr. Peck with a focus on experientially learning and experiencing Community Building guidelines and principles for personal\, spiritual and professional growth. \nThe CBW involves a group process aimed at deeper\, more authentic communication. Using a set of guidelines and principles rather than an agenda or particular procedure\, participants are gently guided by specially trained facilitators who take the group through a process that shows how to look beyond the cultural\, political and religious differences that prevent us from embracing our common humanity. During a CBW\, the ultimate goal of the group is to experience a deeper level of being in community
URL:https://communitybuilding.com/event/community-building-workshop-cbw/
LOCATION:Dom Rekolekcyjny przy parafii Opatrzności Bożej\, ul. ks. Piotra Skargi 2\, 05-075\, Warszawa-Wesoła\, Poland
CATEGORIES:CBW,English,In Person,Polish,Public
ATTACH;FMTTYPE=image/jpeg:https://communitybuilding.com/wp-content/uploads/2025/12/jakub-zerdzicki-Qpsi8Q5GHYc-unsplash-scaled.jpg
ORGANIZER;CN="Maria Piechnik-Romanowicz":MAILTO:macompi@gmail.com
GEO:51.919438;19.145136
END:VEVENT
END:VCALENDAR