BEGIN:VCALENDAR
VERSION:2.0
PRODID:-//Community Building International - ECPv6.15.20//NONSGML v1.0//EN
CALSCALE:GREGORIAN
METHOD:PUBLISH
X-WR-CALNAME:Community Building International
X-ORIGINAL-URL:https://communitybuilding.com
X-WR-CALDESC:Events for Community Building International
REFRESH-INTERVAL;VALUE=DURATION:PT1H
X-Robots-Tag:noindex
X-PUBLISHED-TTL:PT1H
BEGIN:VTIMEZONE
TZID:Europe/Prague
BEGIN:DAYLIGHT
TZOFFSETFROM:+0100
TZOFFSETTO:+0200
TZNAME:CEST
DTSTART:20230326T010000
END:DAYLIGHT
BEGIN:STANDARD
TZOFFSETFROM:+0200
TZOFFSETTO:+0100
TZNAME:CET
DTSTART:20231029T010000
END:STANDARD
BEGIN:DAYLIGHT
TZOFFSETFROM:+0100
TZOFFSETTO:+0200
TZNAME:CEST
DTSTART:20240331T010000
END:DAYLIGHT
BEGIN:STANDARD
TZOFFSETFROM:+0200
TZOFFSETTO:+0100
TZNAME:CET
DTSTART:20241027T010000
END:STANDARD
BEGIN:DAYLIGHT
TZOFFSETFROM:+0100
TZOFFSETTO:+0200
TZNAME:CEST
DTSTART:20250330T010000
END:DAYLIGHT
BEGIN:STANDARD
TZOFFSETFROM:+0200
TZOFFSETTO:+0100
TZNAME:CET
DTSTART:20251026T010000
END:STANDARD
END:VTIMEZONE
BEGIN:VEVENT
DTSTART;TZID=Europe/Prague:20240322T173000
DTEND;TZID=Europe/Prague:20240324T170000
DTSTAMP:20260424T231434
CREATED:20240129T144049Z
LAST-MODIFIED:20240129T144049Z
UID:10000249-1711128600-1711299600@communitybuilding.com
SUMMARY:Community Building Workshop (CBW) for men in the Czech Republic (PUBLIC)
DESCRIPTION:The Community Building Workshop (CBW) is the original workshop format developed by Dr. Peck with a focus on experientially learning and experiencing Community Building guidelines and principles for personal\, spiritual and professional growth. \nThe CBW involves a group process aimed at deeper\, more authentic communication. Using a set of guidelines and principles rather than an agenda or particular procedure\, participants are gently guided by specially trained facilitators who take the group through a process that shows how to look beyond the cultural\, political and religious differences that prevent us from embracing our common humanity. During a CBW\, the ultimate goal of the group is to experience a deeper level of being in community. \nThis is a PUBLIC workshop for men. \nOrganizer: Lukáš Matěna (lukas.matena@gmail.com) \nFacilitators: Karol Herian\, Martin Kaše \nDate/Time: March 22-24\, 2024 (fr 17:30-21:00\, sa 9:00-21:00\, su 9:00-17:00) \nLocation: Czechia\, Bělá nad Svitavou \nCost: 3000-5000 Czk \nRegistration:  \n\nPlease register via THIS LINK.\nPlease also fill out the Required Participation Waivers in the RSVP below!  Thank you!
URL:https://communitybuilding.com/event/cbw4men-czech-republic/
LOCATION:GAIA TREE\, Bělá nad Svitavou 11\, Bělá nad Svitavou\, 56905\, Czech Republic
CATEGORIES:CBW,Czech,In Person,Public,Slovakian
ATTACH;FMTTYPE=image/webp:https://communitybuilding.com/wp-content/uploads/2024/01/Czech-retreat-center.webp
ORGANIZER;CN="Luk%C3%A1%C5%A1 Mat%C4%9Bna":MAILTO:lukas.matena@gmail.com
GEO:49.6412114;16.4899124
X-APPLE-STRUCTURED-LOCATION;VALUE=URI;X-ADDRESS=GAIA TREE Bělá nad Svitavou 11 Bělá nad Svitavou 56905 Czech Republic;X-APPLE-RADIUS=500;X-TITLE=Bělá nad Svitavou 11:geo:16.4899124,49.6412114
END:VEVENT
END:VCALENDAR