BEGIN:VCALENDAR
VERSION:2.0
PRODID:-//Community Building International - ECPv6.15.20//NONSGML v1.0//EN
CALSCALE:GREGORIAN
METHOD:PUBLISH
X-ORIGINAL-URL:https://communitybuilding.com
X-WR-CALDESC:Events for Community Building International
REFRESH-INTERVAL;VALUE=DURATION:PT1H
X-Robots-Tag:noindex
X-PUBLISHED-TTL:PT1H
BEGIN:VTIMEZONE
TZID:Europe/Berlin
BEGIN:DAYLIGHT
TZOFFSETFROM:+0100
TZOFFSETTO:+0200
TZNAME:CEST
DTSTART:20230326T010000
END:DAYLIGHT
BEGIN:STANDARD
TZOFFSETFROM:+0200
TZOFFSETTO:+0100
TZNAME:CET
DTSTART:20231029T010000
END:STANDARD
BEGIN:DAYLIGHT
TZOFFSETFROM:+0100
TZOFFSETTO:+0200
TZNAME:CEST
DTSTART:20240331T010000
END:DAYLIGHT
BEGIN:STANDARD
TZOFFSETFROM:+0200
TZOFFSETTO:+0100
TZNAME:CET
DTSTART:20241027T010000
END:STANDARD
BEGIN:DAYLIGHT
TZOFFSETFROM:+0100
TZOFFSETTO:+0200
TZNAME:CEST
DTSTART:20250330T010000
END:DAYLIGHT
BEGIN:STANDARD
TZOFFSETFROM:+0200
TZOFFSETTO:+0100
TZNAME:CET
DTSTART:20251026T010000
END:STANDARD
END:VTIMEZONE
BEGIN:VEVENT
DTSTART;VALUE=DATE:20240219
DTEND;VALUE=DATE:20240221
DTSTAMP:20260424T195116
CREATED:20231212T220622Z
LAST-MODIFIED:20240116T134449Z
UID:10000020-1708300800-1708473599@communitybuilding.com
SUMMARY:Facilitator Training (Module 3)
DESCRIPTION:Module 3 is part of CBI’s Facilitator Training program. To learn more about facilitator training\, certification and licensing\, click here. \nLocation:  It will take place in Wessobrunn\, in Jugendhaus Stillerhof (https://www.gruppenhaus.de/jugendhaus-stillerhof-wessobrunn-hs7965.html) \nDates: 19-20 February (the first day is obligatory and the second day is optional).  \nLanguage of the workshop is German and English only. \nAccommodation: The participants may be accommodated at the site. Please contact the organizer for booking.  \nRegistration:  \n\nTo register for this event\, please contact the organizers at austria@communitybuilding.com.\nAlso\, please fill out the Required Participation Waivers by clicking the RSVP below. Thank you!\n\n 
URL:https://communitybuilding.com/event/facilitator-training-module-3/
LOCATION:Klostergut 1\, 82405 Wessobrunn\, Germany\, Klostergut 1\, Wessobrunn\, 82405\, Germany
CATEGORIES:Closed,English,Facilitated by Edward Groody,Facilitator Training,German,In Person,Language
ATTACH;FMTTYPE=image/jpeg:https://communitybuilding.com/wp-content/uploads/2023/11/business-02-2-scaled.jpg
GEO:47.8768005;11.0096087
X-APPLE-STRUCTURED-LOCATION;VALUE=URI;X-ADDRESS=Klostergut 1 82405 Wessobrunn Germany Klostergut 1 Wessobrunn 82405 Germany;X-APPLE-RADIUS=500;X-TITLE=Klostergut 1:geo:11.0096087,47.8768005
END:VEVENT
END:VCALENDAR