BEGIN:VCALENDAR
VERSION:2.0
PRODID:-//Community Building International - ECPv6.15.20//NONSGML v1.0//EN
CALSCALE:GREGORIAN
METHOD:PUBLISH
X-WR-CALNAME:Community Building International
X-ORIGINAL-URL:https://communitybuilding.com
X-WR-CALDESC:Events for Community Building International
REFRESH-INTERVAL;VALUE=DURATION:PT1H
X-Robots-Tag:noindex
X-PUBLISHED-TTL:PT1H
BEGIN:VTIMEZONE
TZID:Europe/Bratislava
BEGIN:DAYLIGHT
TZOFFSETFROM:+0100
TZOFFSETTO:+0200
TZNAME:CEST
DTSTART:20230326T010000
END:DAYLIGHT
BEGIN:STANDARD
TZOFFSETFROM:+0200
TZOFFSETTO:+0100
TZNAME:CET
DTSTART:20231029T010000
END:STANDARD
BEGIN:DAYLIGHT
TZOFFSETFROM:+0100
TZOFFSETTO:+0200
TZNAME:CEST
DTSTART:20240331T010000
END:DAYLIGHT
BEGIN:STANDARD
TZOFFSETFROM:+0200
TZOFFSETTO:+0100
TZNAME:CET
DTSTART:20241027T010000
END:STANDARD
BEGIN:DAYLIGHT
TZOFFSETFROM:+0100
TZOFFSETTO:+0200
TZNAME:CEST
DTSTART:20250330T010000
END:DAYLIGHT
BEGIN:STANDARD
TZOFFSETFROM:+0200
TZOFFSETTO:+0100
TZNAME:CET
DTSTART:20251026T010000
END:STANDARD
END:VTIMEZONE
BEGIN:VEVENT
DTSTART;VALUE=DATE:20240304
DTEND;VALUE=DATE:20240307
DTSTAMP:20260424T213706
CREATED:20231212T233253Z
LAST-MODIFIED:20231222T193116Z
UID:10000086-1709510400-1709769599@communitybuilding.com
SUMMARY:Community Building Workshop (CBW) in Slovakia (CLOSED)
DESCRIPTION:The Community Building Workshop (CBW) is the original workshop format developed by Dr. Peck with a focus on experientially learning and experiencing Community Building guidelines and principles for personal\, spiritual and professional growth. \nThe CBW involves a group process aimed at deeper\, more authentic communication. Using a set of guidelines and principles rather than an agenda or particular procedure\, participants are gently guided by specially trained facilitators who take the group through a process that shows how to look beyond the cultural\, political and religious differences that prevent us from embracing our common humanity. During a CBW\, the ultimate goal of the group is to experience a deeper level of being in community. \nThis is a CLOSED workshop.  \nCost: 180EUR \nFor more information\, please contact the organizer:  Andrea Mikolasikova (andrea@mikolasik.sk). If you have permission to attend\, please fill out the Required Participation Waivers in the RSVP below! Thank you!
URL:https://communitybuilding.com/event/community-building-workshop-cbw-in-slovakia-closed/
LOCATION:Venue in Križovany nad Dudváhom\, Križovany nad Dudváhom\, Slovakia (Slovak Republic)
CATEGORIES:CBW,Closed,English,Facilitated by Edward Groody,In Person,Slovakian
ORGANIZER;CN="Andrea Mikolasikova":MAILTO:andrea@mikolasik.sk
GEO:48.324917;17.6564901
END:VEVENT
END:VCALENDAR